BEGIN:VCALENDAR
VERSION:2.0
PRODID:-//Largo High School Instrumental Music - ECPv6.15.15//NONSGML v1.0//EN
CALSCALE:GREGORIAN
METHOD:PUBLISH
X-ORIGINAL-URL:https://lhsbandofgold.org
X-WR-CALDESC:Events for Largo High School Instrumental Music
REFRESH-INTERVAL;VALUE=DURATION:PT1H
X-Robots-Tag:noindex
X-PUBLISHED-TTL:PT1H
BEGIN:VTIMEZONE
TZID:UTC
BEGIN:STANDARD
TZOFFSETFROM:+0000
TZOFFSETTO:+0000
TZNAME:UTC
DTSTART:20240101T000000
END:STANDARD
END:VTIMEZONE
BEGIN:VTIMEZONE
TZID:America/New_York
BEGIN:DAYLIGHT
TZOFFSETFROM:-0500
TZOFFSETTO:-0400
TZNAME:EDT
DTSTART:20240310T070000
END:DAYLIGHT
BEGIN:STANDARD
TZOFFSETFROM:-0400
TZOFFSETTO:-0500
TZNAME:EST
DTSTART:20241103T060000
END:STANDARD
BEGIN:DAYLIGHT
TZOFFSETFROM:-0500
TZOFFSETTO:-0400
TZNAME:EDT
DTSTART:20250309T070000
END:DAYLIGHT
BEGIN:STANDARD
TZOFFSETFROM:-0400
TZOFFSETTO:-0500
TZNAME:EST
DTSTART:20251102T060000
END:STANDARD
BEGIN:DAYLIGHT
TZOFFSETFROM:-0500
TZOFFSETTO:-0400
TZNAME:EDT
DTSTART:20260308T070000
END:DAYLIGHT
BEGIN:STANDARD
TZOFFSETFROM:-0400
TZOFFSETTO:-0500
TZNAME:EST
DTSTART:20261101T060000
END:STANDARD
BEGIN:DAYLIGHT
TZOFFSETFROM:-0500
TZOFFSETTO:-0400
TZNAME:EDT
DTSTART:20270314T070000
END:DAYLIGHT
BEGIN:STANDARD
TZOFFSETFROM:-0400
TZOFFSETTO:-0500
TZNAME:EST
DTSTART:20271107T060000
END:STANDARD
END:VTIMEZONE
BEGIN:VEVENT
DTSTART;TZID=UTC:20251119T170000
DTEND;TZID=UTC:20251119T230000
DTSTAMP:20260425T114406
CREATED:20220803T194330Z
LAST-MODIFIED:20250724T010930Z
UID:12239-1763571600-1763593200@lhsbandofgold.org
SUMMARY:All County Band and Orchestra Auditions
DESCRIPTION:This date has not been confirmed yet; this is the week & day it has been for the past few years.  This notice will be updated once the date and site have been confirmed. \nAll Gold Band and Golden Strings members are expected to audition.  Blue Band and Silver Strings members are encouraged to audition as well.
URL:https://lhsbandofgold.org/event/all-county-band-and-orchestra-auditions/
LOCATION:To be determined\, FL
CATEGORIES:General
END:VEVENT
BEGIN:VEVENT
DTSTART;TZID=America/New_York:20251120T173000
DTEND;TZID=America/New_York:20251120T203000
DTSTAMP:20260425T114406
CREATED:20230803T120755Z
LAST-MODIFIED:20250724T010617Z
UID:13978-1763659800-1763670600@lhsbandofgold.org
SUMMARY:Marching Band Rehearsal
DESCRIPTION:This rehearsal may get cancelled\, but please hold the date in reserve for now.
URL:https://lhsbandofgold.org/event/marching-band-rehearsal-8/
LOCATION:Packer Stadium\, 410 Missouri Ave N\, Largo\, FL\, 33770\, United States
CATEGORIES:Rehearsal
END:VEVENT
BEGIN:VEVENT
DTSTART;TZID=America/New_York:20251121T170000
DTEND;TZID=America/New_York:20251121T230000
DTSTAMP:20260425T114406
CREATED:20231114T005535Z
LAST-MODIFIED:20250724T010504Z
UID:14273-1763744400-1763766000@lhsbandofgold.org
SUMMARY:Football Playoff Game - Regional Semi-Final
DESCRIPTION:This is the 2nd round play-off game – if the team gets in the playoffs and wins their first game\, we will have a game this night.
URL:https://lhsbandofgold.org/event/playoff-football-game/
LOCATION:To be determined\, FL
CATEGORIES:Performance
END:VEVENT
BEGIN:VEVENT
DTSTART;TZID=UTC:20251124T072500
DTEND;TZID=UTC:20251128T135500
DTSTAMP:20260425T114406
CREATED:20220804T000137Z
LAST-MODIFIED:20250724T011050Z
UID:12243-1763969100-1764338100@lhsbandofgold.org
SUMMARY:Thanksgiving Holidays - School Closed
DESCRIPTION:
URL:https://lhsbandofgold.org/event/thanksgiving-holidays-school-closed/
CATEGORIES:School
END:VEVENT
BEGIN:VEVENT
DTSTART;TZID=America/New_York:20251128T170000
DTEND;TZID=America/New_York:20251128T230000
DTSTAMP:20260425T114406
CREATED:20240805T133936Z
LAST-MODIFIED:20250724T011331Z
UID:15067-1764349200-1764370800@lhsbandofgold.org
SUMMARY:Playoff Football Game - Regional Final
DESCRIPTION:If the team makes it to this game\, it would be awesome – this is the regional championship game. \nYes\, it’s the day after Thanksgiving. \nIf they make it this far and win\, then there are at most 2 more games – Dec. 5 is the state semi-final\, and the state championship final is usually about a week later (at a neutral site) – the FHSAA has not published the schedule for the state final games yet. \nIf the team were to make the state semi-final\, it would tie them for the farthest our school has ever gotten in the playoffs. \nIf they make the state final\, it would be a new record for our school. \nIf they win the state championship\, they would have the distinction of being the FIRST school from Pinellas County to ever do so.
URL:https://lhsbandofgold.org/event/playoff-football-game-round-3/
LOCATION:To be determined\, FL
CATEGORIES:Performance
END:VEVENT
BEGIN:VEVENT
DTSTART;TZID=America/New_York:20251201T180000
DTEND;TZID=America/New_York:20251201T190000
DTSTAMP:20260425T114406
CREATED:20250724T143939Z
LAST-MODIFIED:20250724T144710Z
UID:16133-1764612000-1764615600@lhsbandofgold.org
SUMMARY:Band and Orchestra Boosters Board Meeting
DESCRIPTION:Board meetings are always open – ANY and ALL parents are ALWAYS welcome to attend!
URL:https://lhsbandofgold.org/event/band-and-orchestra-boosters-board-meeting/
LOCATION:Band Room
END:VEVENT
BEGIN:VEVENT
DTSTART;TZID=America/New_York:20251208T190000
DTEND;TZID=America/New_York:20251208T203000
DTSTAMP:20260425T114406
CREATED:20211129T225343Z
LAST-MODIFIED:20250724T142957Z
UID:10963-1765220400-1765225800@lhsbandofgold.org
SUMMARY:Winter Concert Series - Concert I
DESCRIPTION:Dress:  Concert Black (https://tinyurl.com/c3pr8pkx ) \nThe first night of two – program order will be determined BEFORE we go out for Thanksgiving break. \nSound checks in the afternoon; concert begins 7:00 pm
URL:https://lhsbandofgold.org/event/winter-concert-series-concert-i/
LOCATION:Auditorium
CATEGORIES:Performance
END:VEVENT
BEGIN:VEVENT
DTSTART;TZID=America/New_York:20251209T190000
DTEND;TZID=America/New_York:20251209T203000
DTSTAMP:20260425T114406
CREATED:20211129T225627Z
LAST-MODIFIED:20250724T143117Z
UID:10965-1765306800-1765312200@lhsbandofgold.org
SUMMARY:Winter Concert Series - Concert II
DESCRIPTION:Dress:  Concert Black (https://tinyurl.com/c3pr8pkx ) \nThe second night of two – program order will be determined BEFORE we go out for Thanksgiving break. \nSound checks in the afternoon; concert begins 7:00 pm
URL:https://lhsbandofgold.org/event/winter-concert-series-concert-ii/
LOCATION:Auditorium
CATEGORIES:Performance
END:VEVENT
BEGIN:VEVENT
DTSTART;TZID=America/New_York:20251219T071500
DTEND;TZID=America/New_York:20251219T135500
DTSTAMP:20260425T114406
CREATED:20250724T143719Z
LAST-MODIFIED:20250724T143719Z
UID:16129-1766128500-1766152500@lhsbandofgold.org
SUMMARY:Last Day of 2nd 9 weeks
DESCRIPTION:
URL:https://lhsbandofgold.org/event/last-day-of-2nd-9-weeks/
CATEGORIES:School
END:VEVENT
BEGIN:VEVENT
DTSTART;TZID=America/New_York:20251220T093000
DTEND;TZID=America/New_York:20251220T130000
DTSTAMP:20260425T114406
CREATED:20211129T230350Z
LAST-MODIFIED:20250724T143210Z
UID:10971-1766223000-1766235600@lhsbandofgold.org
SUMMARY:City of Largo Christmas Parade
DESCRIPTION:The parade steps off at 12:00 noon; details closer to the date.
URL:https://lhsbandofgold.org/event/city-of-largo-christmas-parade/
CATEGORIES:Performance
END:VEVENT
BEGIN:VEVENT
DTSTART;VALUE=DATE:20251222
DTEND;VALUE=DATE:20260104
DTSTAMP:20260425T114406
CREATED:20250724T143843Z
LAST-MODIFIED:20250724T152924Z
UID:16131-1766361600-1767484799@lhsbandofgold.org
SUMMARY:Winter Holidays
DESCRIPTION:
URL:https://lhsbandofgold.org/event/winter-holidays/
CATEGORIES:School
END:VEVENT
BEGIN:VEVENT
DTSTART;TZID=America/New_York:20260105T072500
DTEND;TZID=America/New_York:20260105T135500
DTSTAMP:20260425T114406
CREATED:20220804T002805Z
LAST-MODIFIED:20250724T144135Z
UID:12253-1767597900-1767621300@lhsbandofgold.org
SUMMARY:Second Semester Begins
DESCRIPTION:
URL:https://lhsbandofgold.org/event/second-semester-begins/
LOCATION:Largo High School\, 410 Missouri Ave N\, Largo\, FL\, 33770\, United States
CATEGORIES:School
END:VEVENT
BEGIN:VEVENT
DTSTART;TZID=America/New_York:20260112T180000
DTEND;TZID=America/New_York:20260112T190000
DTSTAMP:20260425T114406
CREATED:20240804T204729Z
LAST-MODIFIED:20250724T144640Z
UID:15007-1768240800-1768244400@lhsbandofgold.org
SUMMARY:Band Boosters Board Meeting
DESCRIPTION:Board meetings are always open – ANY and ALL parents are ALWAYS welcome to attend!
URL:https://lhsbandofgold.org/event/band-boosters-board-meeting-5/
LOCATION:Band Room
CATEGORIES:General
END:VEVENT
BEGIN:VEVENT
DTSTART;VALUE=DATE:20260114
DTEND;VALUE=DATE:20260118
DTSTAMP:20260425T114406
CREATED:20181023T202237Z
LAST-MODIFIED:20250724T144356Z
UID:911-1768348800-1768694399@lhsbandofgold.org
SUMMARY:FMEA All-State Clinic-Conference
DESCRIPTION:
URL:https://lhsbandofgold.org/event/fmea-all-state-clinic-conference/
LOCATION:Tampa Convention Center\, 333 S Franklin St\, Tampa\, FL\, 33602
CATEGORIES:General
END:VEVENT
BEGIN:VEVENT
DTSTART;TZID=America/New_York:20260117T090000
DTEND;TZID=America/New_York:20260117T130000
DTSTAMP:20260425T114406
CREATED:20181023T203956Z
LAST-MODIFIED:20250724T144513Z
UID:917-1768640400-1768654800@lhsbandofgold.org
SUMMARY:FMEA "No Badge Saturday"
DESCRIPTION:The Exhibit Hall at the FMEA Conference is open to anyone on this day; no conference registration required.  There are well over 200 exhibitors at this year’s conference; click here to see the complete list. \nThis is an incredible experience for ALL musicians – take advantage of it if at all possible!! \nEntry to the Exhibit Hall is free to anyone on this day\, but do be aware that there is no free parking anywhere in downtown Tampa\, so you will need to pay to park somewhere.  When you enter the convention center\, go up the escalators to the 2nd level\, then there is another short set of stairs to go up…at that point you will see the entry to the exhibit hall (it’s very clearly marked).
URL:https://lhsbandofgold.org/event/fmea-no-badge-saturday/
LOCATION:Exhibit Hall\, Tampa Convention Center\, 333 S Franklin St\, Tampa\, FL\, 33602\, United States
CATEGORIES:General
END:VEVENT
BEGIN:VEVENT
DTSTART;VALUE=DATE:20260119
DTEND;VALUE=DATE:20260120
DTSTAMP:20260425T114406
CREATED:20211130T000807Z
LAST-MODIFIED:20250724T144552Z
UID:11000-1768780800-1768867199@lhsbandofgold.org
SUMMARY:Martin Luther King\, Jr. Day - no classes
DESCRIPTION:
URL:https://lhsbandofgold.org/event/martin-luther-king-jr-day-no-classes/
LOCATION:Largo High School\, 410 Missouri Ave N\, Largo\, FL\, 33770\, United States
CATEGORIES:School
END:VEVENT
BEGIN:VEVENT
DTSTART;TZID=America/New_York:20260119T080000
DTEND;TZID=America/New_York:20260119T130000
DTSTAMP:20260425T114406
CREATED:20211129T234706Z
LAST-MODIFIED:20250724T145002Z
UID:10990-1768809600-1768827600@lhsbandofgold.org
SUMMARY:Martin Luther King\, Jr. Day March
DESCRIPTION:We traditionally attend this event every year. \nDetailed info will be posted here and sent out via Band app & CutTime closer to the date.
URL:https://lhsbandofgold.org/event/martin-luther-king-jr-day-march/
CATEGORIES:Performance
END:VEVENT
BEGIN:VEVENT
DTSTART;TZID=America/New_York:20260202T144500
DTEND;TZID=America/New_York:20260202T160000
DTSTAMP:20260425T114406
CREATED:20250202T212843Z
LAST-MODIFIED:20260131T205927Z
UID:15548-1770043500-1770048000@lhsbandofgold.org
SUMMARY:Jazz Band Rehearsal
DESCRIPTION:
URL:https://lhsbandofgold.org/event/jazz-ensemble-rehearsal/
LOCATION:Band Room
CATEGORIES:Rehearsal
END:VEVENT
BEGIN:VEVENT
DTSTART;TZID=America/New_York:20260202T160000
DTEND;TZID=America/New_York:20260202T193000
DTSTAMP:20260425T114406
CREATED:20211129T212809Z
LAST-MODIFIED:20260131T205702Z
UID:10906-1770048000-1770060600@lhsbandofgold.org
SUMMARY:IMAGE Indoor Colorguard Rehearsal
DESCRIPTION:
URL:https://lhsbandofgold.org/event/image-indoor-colorguard-rehearsal-24/
LOCATION:Largo High School\, 410 Missouri Ave N\, Largo\, FL\, 33770\, United States
CATEGORIES:Rehearsal
END:VEVENT
BEGIN:VEVENT
DTSTART;TZID=America/New_York:20260202T163000
DTEND;TZID=America/New_York:20260202T183000
DTSTAMP:20260425T114406
CREATED:20250104T182319Z
LAST-MODIFIED:20260131T205754Z
UID:15384-1770049800-1770057000@lhsbandofgold.org
SUMMARY:Percussion Ensemble Rehearsal
DESCRIPTION:
URL:https://lhsbandofgold.org/event/percussion-ensemble-rehearsal/
LOCATION:Band Room
CATEGORIES:Rehearsal
END:VEVENT
BEGIN:VEVENT
DTSTART;TZID=America/New_York:20260202T190000
DTEND;TZID=America/New_York:20260202T193000
DTSTAMP:20260425T114406
CREATED:20260131T212839Z
LAST-MODIFIED:20260131T212839Z
UID:16984-1770058800-1770060600@lhsbandofgold.org
SUMMARY:Pageantry Arts Honor Society Induction
DESCRIPTION:The first induction of members for our brand-new chapter!
URL:https://lhsbandofgold.org/event/pageantry-arts-honor-society-induction/
LOCATION:Band Room
CATEGORIES:General
END:VEVENT
BEGIN:VEVENT
DTSTART;TZID=America/New_York:20260202T193000
DTEND;TZID=America/New_York:20260202T203000
DTSTAMP:20260425T114406
CREATED:20250117T170610Z
LAST-MODIFIED:20260131T212954Z
UID:15439-1770060600-1770064200@lhsbandofgold.org
SUMMARY:Show Hosting Meeting
DESCRIPTION:
URL:https://lhsbandofgold.org/event/show-hosting-meeting/
LOCATION:Band Room
CATEGORIES:Fundraiser
END:VEVENT
BEGIN:VEVENT
DTSTART;TZID=America/New_York:20260205T144500
DTEND;TZID=America/New_York:20260205T160000
DTSTAMP:20260425T114406
CREATED:20250220T135048Z
LAST-MODIFIED:20260131T213301Z
UID:15596-1770302700-1770307200@lhsbandofgold.org
SUMMARY:Jazz Band Rehearsal
DESCRIPTION:
URL:https://lhsbandofgold.org/event/jazz-band-rehearsal/
LOCATION:Band Room
CATEGORIES:Rehearsal
END:VEVENT
BEGIN:VEVENT
DTSTART;TZID=America/New_York:20260205T163000
DTEND;TZID=America/New_York:20260205T183000
DTSTAMP:20260425T114406
CREATED:20250117T163847Z
LAST-MODIFIED:20260131T213405Z
UID:15427-1770309000-1770316200@lhsbandofgold.org
SUMMARY:Percussion Ensemble Rehearsal
DESCRIPTION:
URL:https://lhsbandofgold.org/event/percussion-ensemble-rehearsal-4/
LOCATION:Band Room
CATEGORIES:Rehearsal
END:VEVENT
BEGIN:VEVENT
DTSTART;TZID=America/New_York:20260205T170000
DTEND;TZID=America/New_York:20260205T200000
DTSTAMP:20260425T114406
CREATED:20250202T211444Z
LAST-MODIFIED:20260131T213547Z
UID:15524-1770310800-1770321600@lhsbandofgold.org
SUMMARY:Rehearsals with Mr. Titara
DESCRIPTION:For solos that are being accompanied by Mr. Vincent Titara.  Sign up list is posted by Mr. Benoit’s office.
URL:https://lhsbandofgold.org/event/rehearsals-with-mr-titara/
LOCATION:Band Room
CATEGORIES:Rehearsal
END:VEVENT
BEGIN:VEVENT
DTSTART;TZID=America/New_York:20260205T170000
DTEND;TZID=America/New_York:20260205T203000
DTSTAMP:20260425T114406
CREATED:20211129T214756Z
LAST-MODIFIED:20260131T213138Z
UID:10908-1770310800-1770323400@lhsbandofgold.org
SUMMARY:IMAGE Indoor Colorguard Rehearsal
DESCRIPTION:
URL:https://lhsbandofgold.org/event/image-indoor-colorguard-rehearsal-27/
LOCATION:Largo High School\, 410 Missouri Ave N\, Largo\, FL\, 33770\, United States
CATEGORIES:Rehearsal
END:VEVENT
BEGIN:VEVENT
DTSTART;TZID=America/New_York:20260206T144500
DTEND;TZID=America/New_York:20260206T160000
DTSTAMP:20260425T114406
CREATED:20250202T211943Z
LAST-MODIFIED:20260131T213955Z
UID:15533-1770389100-1770393600@lhsbandofgold.org
SUMMARY:Golden Strings MPA Rehearsal
DESCRIPTION:1st of 3.
URL:https://lhsbandofgold.org/event/golden-strings-mpa-rehearsal/
LOCATION:Band Room
CATEGORIES:Rehearsal
END:VEVENT
BEGIN:VEVENT
DTSTART;TZID=America/New_York:20260206T160000
DTEND;TZID=America/New_York:20260206T193000
DTSTAMP:20260425T114406
CREATED:20211129T214847Z
LAST-MODIFIED:20260131T214904Z
UID:10910-1770393600-1770406200@lhsbandofgold.org
SUMMARY:IMAGE Indoor Colorguard Rehearsal
DESCRIPTION:
URL:https://lhsbandofgold.org/event/image-indoor-colorguard-rehearsal-28/
LOCATION:Largo High School\, 410 Missouri Ave N\, Largo\, FL\, 33770\, United States
CATEGORIES:Rehearsal
END:VEVENT
BEGIN:VEVENT
DTSTART;TZID=America/New_York:20260206T170000
DTEND;TZID=America/New_York:20260206T200000
DTSTAMP:20260425T114406
CREATED:20260131T213629Z
LAST-MODIFIED:20260131T213629Z
UID:16986-1770397200-1770408000@lhsbandofgold.org
SUMMARY:Rehearsals with Mr. Titara
DESCRIPTION:For solos that are being accompanied by Mr. Vincent Titara.  Sign up list is posted by Mr. Benoit’s office.
URL:https://lhsbandofgold.org/event/rehearsals-with-mr-titara-3/
CATEGORIES:Rehearsal
END:VEVENT
BEGIN:VEVENT
DTSTART;VALUE=DATE:20260207
DTEND;VALUE=DATE:20260208
DTSTAMP:20260425T114406
CREATED:20211130T003054Z
LAST-MODIFIED:20260131T215100Z
UID:11030-1770422400-1770508799@lhsbandofgold.org
SUMMARY:IMAGE Indoor Colorguard Contest  - Seminole HS at East Lake HS
DESCRIPTION:This contest is hosted and run by Seminole High\, but being held at East Lake High School.
URL:https://lhsbandofgold.org/event/image-indoor-colorguard-contest-2/
LOCATION:East Lake High School\, 1300 Silver Eagle Dr\, Tarpon Springs\, FL\, 34688\, United States
CATEGORIES:Performance
END:VEVENT
END:VCALENDAR