BEGIN:VCALENDAR
VERSION:2.0
PRODID:-//Largo High School Instrumental Music - ECPv6.15.15//NONSGML v1.0//EN
CALSCALE:GREGORIAN
METHOD:PUBLISH
X-WR-CALNAME:Largo High School Instrumental Music
X-ORIGINAL-URL:https://lhsbandofgold.org
X-WR-CALDESC:Events for Largo High School Instrumental Music
REFRESH-INTERVAL;VALUE=DURATION:PT1H
X-Robots-Tag:noindex
X-PUBLISHED-TTL:PT1H
BEGIN:VTIMEZONE
TZID:America/New_York
BEGIN:DAYLIGHT
TZOFFSETFROM:-0500
TZOFFSETTO:-0400
TZNAME:EDT
DTSTART:20240310T070000
END:DAYLIGHT
BEGIN:STANDARD
TZOFFSETFROM:-0400
TZOFFSETTO:-0500
TZNAME:EST
DTSTART:20241103T060000
END:STANDARD
BEGIN:DAYLIGHT
TZOFFSETFROM:-0500
TZOFFSETTO:-0400
TZNAME:EDT
DTSTART:20250309T070000
END:DAYLIGHT
BEGIN:STANDARD
TZOFFSETFROM:-0400
TZOFFSETTO:-0500
TZNAME:EST
DTSTART:20251102T060000
END:STANDARD
BEGIN:DAYLIGHT
TZOFFSETFROM:-0500
TZOFFSETTO:-0400
TZNAME:EDT
DTSTART:20260308T070000
END:DAYLIGHT
BEGIN:STANDARD
TZOFFSETFROM:-0400
TZOFFSETTO:-0500
TZNAME:EST
DTSTART:20261101T060000
END:STANDARD
END:VTIMEZONE
BEGIN:VTIMEZONE
TZID:UTC
BEGIN:STANDARD
TZOFFSETFROM:+0000
TZOFFSETTO:+0000
TZNAME:UTC
DTSTART:20240101T000000
END:STANDARD
END:VTIMEZONE
BEGIN:VEVENT
DTSTART;TZID=America/New_York:20251007T183000
DTEND;TZID=America/New_York:20251007T200000
DTSTAMP:20260425T112655
CREATED:20250917T121919Z
LAST-MODIFIED:20250917T121922Z
UID:16364-1759861800-1759867200@lhsbandofgold.org
SUMMARY:Fall Concert with Largo Middle
DESCRIPTION:Largo Middle will be presenting a concert in our Auditorium; Gold Band and Golden Strings will both perform as featured special guests. \nFall Concert Poster
URL:https://lhsbandofgold.org/event/fall-concert-with-largo-middle/
LOCATION:Auditorium
CATEGORIES:Performance
END:VEVENT
BEGIN:VEVENT
DTSTART;TZID=America/New_York:20251009T173000
DTEND;TZID=America/New_York:20251009T203000
DTSTAMP:20260425T112655
CREATED:20200930T233457Z
LAST-MODIFIED:20250723T224554Z
UID:9956-1760031000-1760041800@lhsbandofgold.org
SUMMARY:Marching Band Rehearsal
DESCRIPTION:
URL:https://lhsbandofgold.org/event/marching-band-rehearsal-15/
LOCATION:Packer Stadium\, 410 Missouri Ave N\, Largo\, FL\, 33770\, United States
CATEGORIES:Rehearsal
END:VEVENT
BEGIN:VEVENT
DTSTART;TZID=America/New_York:20251010T072500
DTEND;TZID=America/New_York:20251010T135500
DTSTAMP:20260425T112655
CREATED:20210722T162016Z
LAST-MODIFIED:20250723T224845Z
UID:10643-1760081100-1760104500@lhsbandofgold.org
SUMMARY:Last Day of 1st 9 weeks
DESCRIPTION:This is the last day of the 1st 9 weeks grading period.
URL:https://lhsbandofgold.org/event/last-day-of-1st-9-weeks/
LOCATION:Largo High School\, 410 Missouri Ave N\, Largo\, FL\, 33770\, United States
CATEGORIES:School
END:VEVENT
BEGIN:VEVENT
DTSTART;TZID=America/New_York:20251010T170000
DTEND;TZID=America/New_York:20251010T223000
DTSTAMP:20260425T112655
CREATED:20190726T180005Z
LAST-MODIFIED:20250723T224801Z
UID:2822-1760115600-1760135400@lhsbandofgold.org
SUMMARY:HOME Football Game vs. Steinbrenner HS
DESCRIPTION:Detailed info will be posted here and sent out via Band app & CutTime closer to the date.
URL:https://lhsbandofgold.org/event/football-game-at-countryside-hs-2/
LOCATION:Packer Stadium\, 410 Missouri Ave N\, Largo\, FL\, 33770\, United States
CATEGORIES:Performance
END:VEVENT
BEGIN:VEVENT
DTSTART;VALUE=DATE:20251011
DTEND;VALUE=DATE:20251012
DTSTAMP:20260425T112655
CREATED:20190726T183746Z
LAST-MODIFIED:20250723T225017Z
UID:2925-1760140800-1760227199@lhsbandofgold.org
SUMMARY:Contest at Gaither High School
DESCRIPTION:Detailed info will be posted here and sent out via Band app & CutTime closer to the date.
URL:https://lhsbandofgold.org/event/tba-band-contest-trip/
LOCATION:Gaither High School\, 16200 North Dale Mabry\, Tampa\, FL\, 33624\, United States
CATEGORIES:Performance
END:VEVENT
BEGIN:VEVENT
DTSTART;TZID=America/New_York:20251013T083000
DTEND;TZID=America/New_York:20251013T153000
DTSTAMP:20260425T112655
CREATED:20210722T161902Z
LAST-MODIFIED:20250723T225217Z
UID:10641-1760344200-1760369400@lhsbandofgold.org
SUMMARY:Teacher Work Day
DESCRIPTION:There are no classes this day; it is a planning day for teachers at the end of the first 9 weeks. \nIt IS a designated Hurricane Make-Up day\, so in the event that tropical weather cancels so much school that there is a need to reschedule\, this is a day that could be used for that. \nWe MIGHT have rehearsal this day – keep it available\, but if the weather is cooperative this season there is a good chance we may cancel this rehearsal.
URL:https://lhsbandofgold.org/event/professional-development-day/
LOCATION:Largo High School\, 410 Missouri Ave N\, Largo\, FL\, 33770\, United States
CATEGORIES:School
END:VEVENT
BEGIN:VEVENT
DTSTART;TZID=America/New_York:20251013T163000
DTEND;TZID=America/New_York:20251013T193000
DTSTAMP:20260425T112655
CREATED:20200930T233035Z
LAST-MODIFIED:20250723T225411Z
UID:9954-1760373000-1760383800@lhsbandofgold.org
SUMMARY:Marching Band Rehearsal (may cancel)
DESCRIPTION:If the weather is cooperative this season\, we may end up cancelling this rehearsal – you’ll have just finish 3 straight weeks of contests!  But we know from last year that plans can definitely change\, so we’ll keep it on the calendar for now.
URL:https://lhsbandofgold.org/event/marching-band-rehearsal-5/
LOCATION:Band Room/Auditorium/Bus Loop
CATEGORIES:Rehearsal
END:VEVENT
BEGIN:VEVENT
DTSTART;TZID=America/New_York:20251014T180000
DTEND;TZID=America/New_York:20251014T190000
DTSTAMP:20260425T112655
CREATED:20240804T204304Z
LAST-MODIFIED:20250723T225657Z
UID:15003-1760464800-1760468400@lhsbandofgold.org
SUMMARY:Band and Orchestra Boosters Board Meeting
DESCRIPTION:Board meetings are always open – ANY and ALL parents are ALWAYS welcome to attend!
URL:https://lhsbandofgold.org/event/band-boosters-board-meeting-3/
LOCATION:Band Room
CATEGORIES:General
END:VEVENT
BEGIN:VEVENT
DTSTART;TZID=America/New_York:20251016T173000
DTEND;TZID=America/New_York:20251016T203000
DTSTAMP:20260425T112655
CREATED:20200930T233554Z
LAST-MODIFIED:20250723T225919Z
UID:9958-1760635800-1760646600@lhsbandofgold.org
SUMMARY:Marching Band Rehearsal
DESCRIPTION:
URL:https://lhsbandofgold.org/event/marching-band-rehearsal-30/
LOCATION:Packer Stadium\, 410 Missouri Ave N\, Largo\, FL\, 33770\, United States
CATEGORIES:Rehearsal
END:VEVENT
BEGIN:VEVENT
DTSTART;TZID=America/New_York:20251017T193000
DTEND;TZID=America/New_York:20251017T200000
DTSTAMP:20260425T112655
CREATED:20250723T230148Z
LAST-MODIFIED:20250723T230148Z
UID:16110-1760729400-1760731200@lhsbandofgold.org
SUMMARY:Bye week - no football game
DESCRIPTION:There is no football game this evening.  Enjoy your weekend!
URL:https://lhsbandofgold.org/event/bye-week-no-football-game/
CATEGORIES:General,Performance,Rehearsal,School
END:VEVENT
BEGIN:VEVENT
DTSTART;TZID=America/New_York:20251020T163000
DTEND;TZID=America/New_York:20251020T193000
DTSTAMP:20260425T112655
CREATED:20200930T233654Z
LAST-MODIFIED:20250723T230258Z
UID:9960-1760977800-1760988600@lhsbandofgold.org
SUMMARY:Marching Band Rehearsal
DESCRIPTION:
URL:https://lhsbandofgold.org/event/marching-band-rehearsal-32/
LOCATION:Band Room/Auditorium/Bus Loop
CATEGORIES:Rehearsal
END:VEVENT
BEGIN:VEVENT
DTSTART;TZID=America/New_York:20251023T173000
DTEND;TZID=America/New_York:20251023T203000
DTSTAMP:20260425T112655
CREATED:20200930T233832Z
LAST-MODIFIED:20250723T230423Z
UID:9962-1761240600-1761251400@lhsbandofgold.org
SUMMARY:Marching Band Rehearsal
DESCRIPTION:
URL:https://lhsbandofgold.org/event/marching-band-rehearsal-33/
LOCATION:Packer Stadium\, 410 Missouri Ave N\, Largo\, FL\, 33770\, United States
CATEGORIES:Rehearsal
END:VEVENT
BEGIN:VEVENT
DTSTART;TZID=America/New_York:20251024T170000
DTEND;TZID=America/New_York:20251024T223000
DTSTAMP:20260425T112655
CREATED:20190726T175314Z
LAST-MODIFIED:20250723T230513Z
UID:2814-1761325200-1761345000@lhsbandofgold.org
SUMMARY:Football Game at East Lake HS
DESCRIPTION:Detailed info will be posted here and sent out via Band app & CutTime closer to the date.
URL:https://lhsbandofgold.org/event/football-game-vs-gibbs-hs/
LOCATION:Packer Stadium\, 410 Missouri Ave N\, Largo\, FL\, 33770\, United States
CATEGORIES:Performance
END:VEVENT
BEGIN:VEVENT
DTSTART;TZID=America/New_York:20251027T163000
DTEND;TZID=America/New_York:20251027T193000
DTSTAMP:20260425T112655
CREATED:20201001T191728Z
LAST-MODIFIED:20250723T231003Z
UID:9977-1761582600-1761593400@lhsbandofgold.org
SUMMARY:Marching Band Rehearsal
DESCRIPTION:
URL:https://lhsbandofgold.org/event/marching-band-rehearsal-36/
LOCATION:Band Room/Auditorium/Bus Loop
CATEGORIES:Rehearsal
END:VEVENT
BEGIN:VEVENT
DTSTART;TZID=America/New_York:20251030T170000
DTEND;TZID=America/New_York:20251030T223000
DTSTAMP:20260425T112655
CREATED:20190726T175602Z
LAST-MODIFIED:20250723T231232Z
UID:2818-1761843600-1761863400@lhsbandofgold.org
SUMMARY:Football Game at Northeast HS (No band)
DESCRIPTION:The final regular season game for the team; this is the other game that we will not attend.
URL:https://lhsbandofgold.org/event/football-game-vs-northeast-hs/
LOCATION:Northeast High School\, 5500 16th St N\, St Petersburg\, FL\, 33703\, United States
CATEGORIES:Performance
END:VEVENT
BEGIN:VEVENT
DTSTART;TZID=America/New_York:20251030T173000
DTEND;TZID=America/New_York:20251030T203000
DTSTAMP:20260425T112655
CREATED:20200930T233933Z
LAST-MODIFIED:20250723T230820Z
UID:9964-1761845400-1761856200@lhsbandofgold.org
SUMMARY:Marching Band Rehearsal
DESCRIPTION:
URL:https://lhsbandofgold.org/event/marching-band-rehearsal-34/
LOCATION:Band Room/Auditorium/Bus Loop
CATEGORIES:Rehearsal
END:VEVENT
BEGIN:VEVENT
DTSTART;VALUE=DATE:20251101
DTEND;VALUE=DATE:20251102
DTSTAMP:20260425T112655
CREATED:20190726T183606Z
LAST-MODIFIED:20250724T004824Z
UID:2923-1761955200-1762041599@lhsbandofgold.org
SUMMARY:District Marching MPA
DESCRIPTION:This is the one event ALL Pinellas County Marching Bands must attend\, so it is a great show to go watch and see them all! \nIt is NOT a contest – it is an assessment in which bands are rated for their achievement of the various skills required for the performance.
URL:https://lhsbandofgold.org/event/district-marching-mpa/
LOCATION:Palm Harbor University High School\, 1900 Omaha St\, Palm Harbor\, FL\, 34683\, United States
CATEGORIES:Performance
END:VEVENT
BEGIN:VEVENT
DTSTART;TZID=America/New_York:20251103T163000
DTEND;TZID=America/New_York:20251103T193000
DTSTAMP:20260425T112655
CREATED:20200930T234225Z
LAST-MODIFIED:20250724T004711Z
UID:9968-1762187400-1762198200@lhsbandofgold.org
SUMMARY:Marching Band Rehearsal
DESCRIPTION:
URL:https://lhsbandofgold.org/event/marching-band-rehearsal-35/
LOCATION:Band Room/Auditorium/Bus Loop
CATEGORIES:Rehearsal
END:VEVENT
BEGIN:VEVENT
DTSTART;TZID=America/New_York:20251106T173000
DTEND;TZID=America/New_York:20251106T203000
DTSTAMP:20260425T112655
CREATED:20211101T215852Z
LAST-MODIFIED:20250724T004435Z
UID:10810-1762450200-1762461000@lhsbandofgold.org
SUMMARY:Marching Band Rehearsal
DESCRIPTION:
URL:https://lhsbandofgold.org/event/marching-band-rehearsal-19/
LOCATION:Packer Stadium\, 410 Missouri Ave N\, Largo\, FL\, 33770\, United States
CATEGORIES:Rehearsal
END:VEVENT
BEGIN:VEVENT
DTSTART;TZID=America/New_York:20251107T170000
DTEND;TZID=America/New_York:20251107T210000
DTSTAMP:20260425T112655
CREATED:20250724T004549Z
LAST-MODIFIED:20250724T005958Z
UID:16116-1762534800-1762549200@lhsbandofgold.org
SUMMARY:Marching Band Rehearsal
DESCRIPTION:No football game tonight – this is our final prep for FFCC Championships
URL:https://lhsbandofgold.org/event/marching-band-rehearsal-2/
LOCATION:Packer Stadium\, 410 Missouri Ave N\, Largo\, FL\, 33770\, United States
CATEGORIES:Rehearsal
END:VEVENT
BEGIN:VEVENT
DTSTART;VALUE=DATE:20251108
DTEND;VALUE=DATE:20251109
DTSTAMP:20260425T112655
CREATED:20230803T122727Z
LAST-MODIFIED:20250724T010341Z
UID:13989-1762560000-1762646399@lhsbandofgold.org
SUMMARY:FFCC Outdoor Championships
DESCRIPTION:This is our final performance of the show\, our whole season is aimed at making this performance the very best one we are capable of!
URL:https://lhsbandofgold.org/event/fmbc-state-semi-finals-finals/
LOCATION:West Orange High School\, 1625 Beulah Rd\, Winter Garden\, FL\, 34787\, United States
CATEGORIES:Performance
END:VEVENT
BEGIN:VEVENT
DTSTART;VALUE=DATE:20251111
DTEND;VALUE=DATE:20251112
DTSTAMP:20260425T112655
CREATED:20220803T192412Z
LAST-MODIFIED:20250724T010711Z
UID:12229-1762819200-1762905599@lhsbandofgold.org
SUMMARY:Veterans Day Performances
DESCRIPTION:We often have performances on this day; nothing has been set yet\, but it is likely that we will have at least one performance this day.
URL:https://lhsbandofgold.org/event/marching-band-rehearsal/
LOCATION:Largo Central Park
CATEGORIES:Performance
END:VEVENT
BEGIN:VEVENT
DTSTART;TZID=America/New_York:20251111T180000
DTEND;TZID=America/New_York:20251111T190000
DTSTAMP:20260425T112655
CREATED:20240804T204425Z
LAST-MODIFIED:20250724T004908Z
UID:15005-1762884000-1762887600@lhsbandofgold.org
SUMMARY:Band and Orchestra Boosters Board Meeting
DESCRIPTION:Board meetings are always open – ANY and ALL parents are ALWAYS welcome to attend!
URL:https://lhsbandofgold.org/event/band-boosters-board-meeting-4/
LOCATION:Band Room
CATEGORIES:General
END:VEVENT
BEGIN:VEVENT
DTSTART;TZID=UTC:20251113T173000
DTEND;TZID=UTC:20251113T203000
DTSTAMP:20260425T112655
CREATED:20220803T192459Z
LAST-MODIFIED:20250724T005622Z
UID:12231-1763055000-1763065800@lhsbandofgold.org
SUMMARY:Marching Band Rehearsal
DESCRIPTION:This will be our first rehearsal for the City of Largo Christmas Parade. \nWe will continue to have Thursday rehearsals until the football team either loses in the playoffs or wins the state championship.
URL:https://lhsbandofgold.org/event/marching-band-rehearsal-7/
LOCATION:Band Room / Auditorium / Parking Lot
CATEGORIES:Rehearsal
END:VEVENT
BEGIN:VEVENT
DTSTART;TZID=America/New_York:20251114T170000
DTEND;TZID=America/New_York:20251114T223000
DTSTAMP:20260425T112655
CREATED:20190726T141048Z
LAST-MODIFIED:20250724T005804Z
UID:2828-1763139600-1763159400@lhsbandofgold.org
SUMMARY:Football Playoffs - Regional Quarterfinals
DESCRIPTION:There is a strong likelihood that the team will make the playoffs. \nIt could be a home game or an away game – we won’t know until rather further on into the season.  We are hoping for a home game. \nIf the team wins\, they will continue to play games each Friday until they either A) lose or B) are the state champions. \nDetails when we have more information.
URL:https://lhsbandofgold.org/event/football-playoffs-1st-round/
LOCATION:To be determined\, FL
CATEGORIES:Performance
END:VEVENT
BEGIN:VEVENT
DTSTART;TZID=UTC:20251119T170000
DTEND;TZID=UTC:20251119T230000
DTSTAMP:20260425T112655
CREATED:20220803T194330Z
LAST-MODIFIED:20250724T010930Z
UID:12239-1763571600-1763593200@lhsbandofgold.org
SUMMARY:All County Band and Orchestra Auditions
DESCRIPTION:This date has not been confirmed yet; this is the week & day it has been for the past few years.  This notice will be updated once the date and site have been confirmed. \nAll Gold Band and Golden Strings members are expected to audition.  Blue Band and Silver Strings members are encouraged to audition as well.
URL:https://lhsbandofgold.org/event/all-county-band-and-orchestra-auditions/
LOCATION:To be determined\, FL
CATEGORIES:General
END:VEVENT
BEGIN:VEVENT
DTSTART;TZID=America/New_York:20251120T173000
DTEND;TZID=America/New_York:20251120T203000
DTSTAMP:20260425T112655
CREATED:20230803T120755Z
LAST-MODIFIED:20250724T010617Z
UID:13978-1763659800-1763670600@lhsbandofgold.org
SUMMARY:Marching Band Rehearsal
DESCRIPTION:This rehearsal may get cancelled\, but please hold the date in reserve for now.
URL:https://lhsbandofgold.org/event/marching-band-rehearsal-8/
LOCATION:Packer Stadium\, 410 Missouri Ave N\, Largo\, FL\, 33770\, United States
CATEGORIES:Rehearsal
END:VEVENT
BEGIN:VEVENT
DTSTART;TZID=America/New_York:20251121T170000
DTEND;TZID=America/New_York:20251121T230000
DTSTAMP:20260425T112655
CREATED:20231114T005535Z
LAST-MODIFIED:20250724T010504Z
UID:14273-1763744400-1763766000@lhsbandofgold.org
SUMMARY:Football Playoff Game - Regional Semi-Final
DESCRIPTION:This is the 2nd round play-off game – if the team gets in the playoffs and wins their first game\, we will have a game this night.
URL:https://lhsbandofgold.org/event/playoff-football-game/
LOCATION:To be determined\, FL
CATEGORIES:Performance
END:VEVENT
BEGIN:VEVENT
DTSTART;TZID=UTC:20251124T072500
DTEND;TZID=UTC:20251128T135500
DTSTAMP:20260425T112655
CREATED:20220804T000137Z
LAST-MODIFIED:20250724T011050Z
UID:12243-1763969100-1764338100@lhsbandofgold.org
SUMMARY:Thanksgiving Holidays - School Closed
DESCRIPTION:
URL:https://lhsbandofgold.org/event/thanksgiving-holidays-school-closed/
CATEGORIES:School
END:VEVENT
BEGIN:VEVENT
DTSTART;TZID=America/New_York:20251128T170000
DTEND;TZID=America/New_York:20251128T230000
DTSTAMP:20260425T112655
CREATED:20240805T133936Z
LAST-MODIFIED:20250724T011331Z
UID:15067-1764349200-1764370800@lhsbandofgold.org
SUMMARY:Playoff Football Game - Regional Final
DESCRIPTION:If the team makes it to this game\, it would be awesome – this is the regional championship game. \nYes\, it’s the day after Thanksgiving. \nIf they make it this far and win\, then there are at most 2 more games – Dec. 5 is the state semi-final\, and the state championship final is usually about a week later (at a neutral site) – the FHSAA has not published the schedule for the state final games yet. \nIf the team were to make the state semi-final\, it would tie them for the farthest our school has ever gotten in the playoffs. \nIf they make the state final\, it would be a new record for our school. \nIf they win the state championship\, they would have the distinction of being the FIRST school from Pinellas County to ever do so.
URL:https://lhsbandofgold.org/event/playoff-football-game-round-3/
LOCATION:To be determined\, FL
CATEGORIES:Performance
END:VEVENT
END:VCALENDAR