BEGIN:VCALENDAR
VERSION:2.0
PRODID:-//Largo High School Instrumental Music - ECPv6.15.15//NONSGML v1.0//EN
CALSCALE:GREGORIAN
METHOD:PUBLISH
X-WR-CALNAME:Largo High School Instrumental Music
X-ORIGINAL-URL:https://lhsbandofgold.org
X-WR-CALDESC:Events for Largo High School Instrumental Music
REFRESH-INTERVAL;VALUE=DURATION:PT1H
X-Robots-Tag:noindex
X-PUBLISHED-TTL:PT1H
BEGIN:VTIMEZONE
TZID:UTC
BEGIN:STANDARD
TZOFFSETFROM:+0000
TZOFFSETTO:+0000
TZNAME:UTC
DTSTART:20240101T000000
END:STANDARD
END:VTIMEZONE
BEGIN:VTIMEZONE
TZID:America/New_York
BEGIN:DAYLIGHT
TZOFFSETFROM:-0500
TZOFFSETTO:-0400
TZNAME:EDT
DTSTART:20240310T070000
END:DAYLIGHT
BEGIN:STANDARD
TZOFFSETFROM:-0400
TZOFFSETTO:-0500
TZNAME:EST
DTSTART:20241103T060000
END:STANDARD
BEGIN:DAYLIGHT
TZOFFSETFROM:-0500
TZOFFSETTO:-0400
TZNAME:EDT
DTSTART:20250309T070000
END:DAYLIGHT
BEGIN:STANDARD
TZOFFSETFROM:-0400
TZOFFSETTO:-0500
TZNAME:EST
DTSTART:20251102T060000
END:STANDARD
BEGIN:DAYLIGHT
TZOFFSETFROM:-0500
TZOFFSETTO:-0400
TZNAME:EDT
DTSTART:20260308T070000
END:DAYLIGHT
BEGIN:STANDARD
TZOFFSETFROM:-0400
TZOFFSETTO:-0500
TZNAME:EST
DTSTART:20261101T060000
END:STANDARD
END:VTIMEZONE
BEGIN:VEVENT
DTSTART;TZID=UTC:20250826T180000
DTEND;TZID=UTC:20250826T203000
DTSTAMP:20260425T120545
CREATED:20220825T204419Z
LAST-MODIFIED:20250723T200905Z
UID:12478-1756231200-1756240200@lhsbandofgold.org
SUMMARY:OPEN HOUSE & PARENT MEETING
DESCRIPTION:Largo High School Back to School Night/Open House AND Meeting for ALL Instrumental Music Parents \nThe open house will run from 6:00 pm – 7:40 pm; this will give all parents the chance to follow your scholar’s schedule and meet all their teachers. \nWe will have our meeting for ALL instrumental music parents immediately afterwards in the band room\, beginning at 7:45 pm.  This meeting will last less than 45 minutes and will cover several important items that affect all of our performing ensembles.  We are tagging it on to the end of the open house so you only have ONE night out for this. \nScholars are WELCOME to attend this event\, but are not required to – everything taking place this evening is specifically geared towards PARENTS.
URL:https://lhsbandofgold.org/event/open-house-parent-meeting/
LOCATION:Largo High School\, 410 Missouri Ave N\, Largo\, FL\, 33770\, United States
CATEGORIES:General,School
END:VEVENT
BEGIN:VEVENT
DTSTART;TZID=America/New_York:20250825T163000
DTEND;TZID=America/New_York:20250825T193000
DTSTAMP:20260425T120545
CREATED:20240513T213728Z
LAST-MODIFIED:20250723T200759Z
UID:14815-1756139400-1756150200@lhsbandofgold.org
SUMMARY:Marching Band Rehearsal
DESCRIPTION:
URL:https://lhsbandofgold.org/event/marching-band-rehearsal-38/
LOCATION:Band Room/Auditorium/Bus Loop
CATEGORIES:Rehearsal
END:VEVENT
BEGIN:VEVENT
DTSTART;TZID=America/New_York:20250823T090000
DTEND;TZID=America/New_York:20250823T160000
DTSTAMP:20260425T120545
CREATED:20240513T213638Z
LAST-MODIFIED:20250723T200611Z
UID:14813-1755939600-1755964800@lhsbandofgold.org
SUMMARY:Marching Band Rehearsal
DESCRIPTION:
URL:https://lhsbandofgold.org/event/marching-band-rehearsal-37/
LOCATION:Band Room / Auditorium / Parking Lot
CATEGORIES:Rehearsal
END:VEVENT
BEGIN:VEVENT
DTSTART;TZID=America/New_York:20250822T193000
DTEND;TZID=America/New_York:20250822T223000
DTSTAMP:20260425T120545
CREATED:20240513T213553Z
LAST-MODIFIED:20250723T200040Z
UID:14811-1755891000-1755901800@lhsbandofgold.org
SUMMARY:Football Game at Pinellas Park HS (no band)
DESCRIPTION:This is the team’s first regular season game\, but we will not be attending; we generally go to three of the five away games. \nAll members are encouraged to go on their own and enjoy the game as spectators!
URL:https://lhsbandofgold.org/event/home-football-game-v-pinellas-park-hs/
LOCATION:Pinellas Park High School\, 6305 118th Ave N\, Largo\, FL\, 33773\, United States
CATEGORIES:School
END:VEVENT
BEGIN:VEVENT
DTSTART;TZID=America/New_York:20250821T173000
DTEND;TZID=America/New_York:20250821T203000
DTSTAMP:20260425T120545
CREATED:20240513T213415Z
LAST-MODIFIED:20250723T195818Z
UID:14809-1755797400-1755808200@lhsbandofgold.org
SUMMARY:Marching Band Rehearsal
DESCRIPTION:
URL:https://lhsbandofgold.org/event/marching-band-rehearsal-31/
LOCATION:Packer Stadium\, 410 Missouri Ave N\, Largo\, FL\, 33770\, United States
CATEGORIES:Rehearsal
END:VEVENT
BEGIN:VEVENT
DTSTART;TZID=America/New_York:20250818T163000
DTEND;TZID=America/New_York:20250818T193000
DTSTAMP:20260425T120545
CREATED:20240513T213329Z
LAST-MODIFIED:20250723T195724Z
UID:14807-1755534600-1755545400@lhsbandofgold.org
SUMMARY:Marching Band Rehearsal
DESCRIPTION:
URL:https://lhsbandofgold.org/event/marching-band-rehearsal-29/
LOCATION:Band Room/Auditorium/Bus Loop
CATEGORIES:Rehearsal
END:VEVENT
BEGIN:VEVENT
DTSTART;TZID=America/New_York:20250814T173000
DTEND;TZID=America/New_York:20250814T203000
DTSTAMP:20260425T120545
CREATED:20240513T213132Z
LAST-MODIFIED:20250723T195642Z
UID:14805-1755192600-1755203400@lhsbandofgold.org
SUMMARY:Marching Band Rehearsal
DESCRIPTION:
URL:https://lhsbandofgold.org/event/marching-band-rehearsal-27/
LOCATION:Packer Stadium\, 410 Missouri Ave N\, Largo\, FL\, 33770\, United States
CATEGORIES:Rehearsal
END:VEVENT
BEGIN:VEVENT
DTSTART;TZID=America/New_York:20250812T180000
DTEND;TZID=America/New_York:20250812T190000
DTSTAMP:20260425T120545
CREATED:20240804T204111Z
LAST-MODIFIED:20250723T195346Z
UID:14999-1755021600-1755025200@lhsbandofgold.org
SUMMARY:Band & Orchestra Boosters Board Meeting
DESCRIPTION:Board meetings are always open – ANY and ALL parents are ALWAYS welcome to attend!
URL:https://lhsbandofgold.org/event/band-boosters-board-meeting/
LOCATION:Band Room
CATEGORIES:General
END:VEVENT
BEGIN:VEVENT
DTSTART;TZID=America/New_York:20250811T163000
DTEND;TZID=America/New_York:20250811T193000
DTSTAMP:20260425T120546
CREATED:20240513T213020Z
LAST-MODIFIED:20250723T195225Z
UID:14803-1754929800-1754940600@lhsbandofgold.org
SUMMARY:Marching Band Rehearsal
DESCRIPTION:
URL:https://lhsbandofgold.org/event/marching-band-rehearsal-11/
LOCATION:Band Room/Auditorium/Bus Loop
CATEGORIES:Rehearsal
END:VEVENT
BEGIN:VEVENT
DTSTART;TZID=America/New_York:20250811T072500
DTEND;TZID=America/New_York:20250811T135500
DTSTAMP:20260425T120546
CREATED:20240513T212217Z
LAST-MODIFIED:20250723T195124Z
UID:14801-1754897100-1754920500@lhsbandofgold.org
SUMMARY:First Day of Classes
DESCRIPTION:
URL:https://lhsbandofgold.org/event/first-day-of-classes-2/
LOCATION:Largo High School\, 410 Missouri Ave N\, Largo\, FL\, 33770\, United States
CATEGORIES:School
END:VEVENT
BEGIN:VEVENT
DTSTART;TZID=UTC:20250809T090000
DTEND;TZID=UTC:20250809T110000
DTSTAMP:20260425T120546
CREATED:20220803T172112Z
LAST-MODIFIED:20250723T194830Z
UID:12190-1754730000-1754737200@lhsbandofgold.org
SUMMARY:Packer Pride Day
DESCRIPTION:Designed for new Largo High Scholars to meet Administration & Counselors and opportunity to find their way around the campus.
URL:https://lhsbandofgold.org/event/packer-pride-day/
LOCATION:Largo High School\, 410 Missouri Ave N\, Largo\, FL\, 33770\, United States
CATEGORIES:School
END:VEVENT
BEGIN:VEVENT
DTSTART;TZID=America/New_York:20250807T183000
DTEND;TZID=America/New_York:20250807T234500
DTSTAMP:20260425T120546
CREATED:20240513T212035Z
LAST-MODIFIED:20250723T194730Z
UID:14798-1754591400-1754610300@lhsbandofgold.org
SUMMARY:No Rehearsal - Go to DCI 2025: Big\, Loud\, and Live
DESCRIPTION:We will not rehearse this evening – ALL members should get a ticket and go to the live broadcast of DCI World Championship Prelims.  It’s as close as you can get to actually being at a live drum corps show without actually being there.  Big screen\, top quality sound system\, and the absolute peak level of the marching arts.  It runs rather late – but don’t miss out on the top 6 – they are ALL incredible!  There’s no school tomorrow!  PARENTS – go along as well – I promise you will be greatly entertained! \nTickets at: https://www.fathomentertainment.com/releases/dci-2025-big-loud-and-live/ \n  \n 
URL:https://lhsbandofgold.org/event/marching-band-rehearsal-10/
LOCATION:Regal Park Place 16\, 7200 US HWY 19 N\, Pinellas Park\, FL\, 33781
CATEGORIES:General,Performance,Rehearsal
END:VEVENT
BEGIN:VEVENT
DTSTART;TZID=America/New_York:20250804T163000
DTEND;TZID=America/New_York:20250804T193000
DTSTAMP:20260425T120546
CREATED:20240513T205457Z
LAST-MODIFIED:20250723T193623Z
UID:14795-1754325000-1754335800@lhsbandofgold.org
SUMMARY:Marching Band Rehearsal
DESCRIPTION:
URL:https://lhsbandofgold.org/event/marching-band-rehearsal-6/
LOCATION:Band Room/Auditorium/Bus Loop
CATEGORIES:Rehearsal
END:VEVENT
BEGIN:VEVENT
DTSTART;TZID=America/New_York:20250728T120000
DTEND;TZID=America/New_York:20250801T210000
DTSTAMP:20260425T120546
CREATED:20230508T231100Z
LAST-MODIFIED:20250515T001740Z
UID:13838-1753704000-1754082000@lhsbandofgold.org
SUMMARY:BAND CAMP
DESCRIPTION:Monday\, Tuesday\, Wednesday\, Thursday\, Friday:  12:00 noon – 9:00 pm \nAfternoon Session I – 12:00 noon – 2:15 pm \nBreak – 2:15 – 2:30 \nAfternoon Session II – 2:30 – 4:45 pm \nDinner Break  4:45 pm – 5:30 pm \nEvening Session I – 5:30 pm – 7:00 pm \nBreak 7:00 – 7:15 \nEvening Session II – 7:15 – 8:45 \nWrap-Up – 8:45 – 9:00 \nOn FRIDAY\, August 1 – Evening Session I will be 5:30 – 6:40; break at 6:40; premiere show for Family & Friends at 7:00 pm
URL:https://lhsbandofgold.org/event/band-camp/
LOCATION:Band Room
CATEGORIES:Rehearsal
END:VEVENT
BEGIN:VEVENT
DTSTART;TZID=America/New_York:20250721T173000
DTEND;TZID=America/New_York:20250721T203000
DTSTAMP:20260425T120546
CREATED:20240501T143614Z
LAST-MODIFIED:20250514T233525Z
UID:14724-1753119000-1753129800@lhsbandofgold.org
SUMMARY:Marching Band Pre-Season Training
DESCRIPTION:All are invited!  New members always welcome!! \nAll members are expected to attend\, but if you are unavailable for a particular reason (such as if you are out of town)\, it’s ok – just be sure to let Mr. Benoit know so we save your spot.
URL:https://lhsbandofgold.org/event/marching-band-pre-season-training-4/
LOCATION:Band Room
CATEGORIES:Rehearsal
END:VEVENT
BEGIN:VEVENT
DTSTART;TZID=America/New_York:20250714T173000
DTEND;TZID=America/New_York:20250714T203000
DTSTAMP:20260425T120546
CREATED:20240501T143537Z
LAST-MODIFIED:20250514T233436Z
UID:14722-1752514200-1752525000@lhsbandofgold.org
SUMMARY:Marching Band Pre-Season Training
DESCRIPTION:All are invited!  New members always welcome!! \nAll members are expected to attend\, but if you are unavailable for a particular reason (such as if you are out of town)\, it’s ok – just be sure to let Mr. Benoit know so we save your spot.
URL:https://lhsbandofgold.org/event/marching-band-pre-season-training-3/
LOCATION:Band Room
CATEGORIES:Rehearsal
END:VEVENT
BEGIN:VEVENT
DTSTART;TZID=America/New_York:20250707T173000
DTEND;TZID=America/New_York:20250707T203000
DTSTAMP:20260425T120546
CREATED:20240501T143502Z
LAST-MODIFIED:20250514T233352Z
UID:14720-1751909400-1751920200@lhsbandofgold.org
SUMMARY:Marching Band Pre-Season Training
DESCRIPTION:All are invited!  New members always welcome!! \nAll members are expected to attend\, but if you are unavailable for a particular reason (such as if you are out of town)\, it’s ok – just be sure to let Mr. Benoit know so we save your spot.
URL:https://lhsbandofgold.org/event/marching-band-pre-season-training-2/
CATEGORIES:Rehearsal
END:VEVENT
BEGIN:VEVENT
DTSTART;TZID=America/New_York:20250630T173000
DTEND;TZID=America/New_York:20250630T203000
DTSTAMP:20260425T120546
CREATED:20240501T143414Z
LAST-MODIFIED:20250514T233302Z
UID:14718-1751304600-1751315400@lhsbandofgold.org
SUMMARY:Marching Band Pre-Season Training
DESCRIPTION:All are invited!  New members always welcome!! \nAll members are expected to attend\, but if you are unavailable for a particular reason (such as if you are out of town)\, it’s ok – just be sure to let Mr. Benoit know so we save your spot.
URL:https://lhsbandofgold.org/event/marching-band-pre-season-training/
LOCATION:Band Room
CATEGORIES:Rehearsal
END:VEVENT
BEGIN:VEVENT
DTSTART;TZID=America/New_York:20250518T110000
DTEND;TZID=America/New_York:20250518T140000
DTSTAMP:20260425T120546
CREATED:20230421T213214Z
LAST-MODIFIED:20250515T175357Z
UID:13770-1747566000-1747576800@lhsbandofgold.org
SUMMARY:Band & Orchestra Awards Banquet
DESCRIPTION:Our Annual Awards Banquet will feature a lovely lunch buffet and celebration of all the amazing accomplishments of our program this year! \nDoors open at 11:00 am\, with the buffet starting at 11:30 am. \nTicket Sales have ended – please have your ticket on your phone when you arrive.  If family members are arriving separately\, you can share their tickets with them.  We will have a list at the door as a back-up\, but if you have the ticket up on your phone already it should be pretty quick and easy! \nSee below for the address & map.
URL:https://lhsbandofgold.org/event/band-orchestra-awards-banquet/
LOCATION:Banquet Masters\, 13355 49th St. N\, Clearwater\, FL\, 33762\, United States
CATEGORIES:General
END:VEVENT
BEGIN:VEVENT
DTSTART;TZID=America/New_York:20250515T173000
DTEND;TZID=America/New_York:20250515T200000
DTSTAMP:20260425T120546
CREATED:20240404T185857Z
LAST-MODIFIED:20250504T184303Z
UID:14637-1747330200-1747339200@lhsbandofgold.org
SUMMARY:Marching Band Icebreaker
DESCRIPTION:
URL:https://lhsbandofgold.org/event/marching-band-icebreaker-3/
LOCATION:Band Room
CATEGORIES:General,Rehearsal
END:VEVENT
BEGIN:VEVENT
DTSTART;TZID=America/New_York:20250514T173000
DTEND;TZID=America/New_York:20250514T200000
DTSTAMP:20260425T120546
CREATED:20250421T190516Z
LAST-MODIFIED:20250504T183957Z
UID:15750-1747243800-1747252800@lhsbandofgold.org
SUMMARY:Colorguard Auditions - Day 2
DESCRIPTION:
URL:https://lhsbandofgold.org/event/colorguard-auditions-day-2/
LOCATION:Largo HS Gym
CATEGORIES:General,Rehearsal
END:VEVENT
BEGIN:VEVENT
DTSTART;TZID=America/New_York:20250512T173000
DTEND;TZID=America/New_York:20250512T200000
DTSTAMP:20260425T120546
CREATED:20250421T190434Z
LAST-MODIFIED:20250421T190434Z
UID:15748-1747071000-1747080000@lhsbandofgold.org
SUMMARY:Colorguard Auditons - Day 1
DESCRIPTION:
URL:https://lhsbandofgold.org/event/colorguard-auditons-day-1/
LOCATION:Largo HS Gym
CATEGORIES:General,Rehearsal
END:VEVENT
BEGIN:VEVENT
DTSTART;TZID=America/New_York:20250512T144500
DTEND;TZID=America/New_York:20250512T160000
DTSTAMP:20260425T120546
CREATED:20250421T190153Z
LAST-MODIFIED:20250421T190153Z
UID:15745-1747061100-1747065600@lhsbandofgold.org
SUMMARY:Marching Band Leadership Training
DESCRIPTION:Session 3 of 3
URL:https://lhsbandofgold.org/event/marching-band-leadership-training-3/
LOCATION:Band Room
CATEGORIES:General,Rehearsal
END:VEVENT
BEGIN:VEVENT
DTSTART;TZID=America/New_York:20250508T144500
DTEND;TZID=America/New_York:20250508T160000
DTSTAMP:20260425T120546
CREATED:20250421T190112Z
LAST-MODIFIED:20250421T190112Z
UID:15743-1746715500-1746720000@lhsbandofgold.org
SUMMARY:Marching Band Leadership Training
DESCRIPTION:Session 2 of 3
URL:https://lhsbandofgold.org/event/marching-band-leadership-training-2/
LOCATION:Band Room
CATEGORIES:General,Rehearsal
END:VEVENT
BEGIN:VEVENT
DTSTART;TZID=America/New_York:20250506T183000
DTEND;TZID=America/New_York:20250506T203000
DTSTAMP:20260425T120546
CREATED:20250504T184159Z
LAST-MODIFIED:20250504T184159Z
UID:15785-1746556200-1746563400@lhsbandofgold.org
SUMMARY:Largo Middle School Band Concert
DESCRIPTION:Let’s all come out and support Largo Middle School’s Band Program!
URL:https://lhsbandofgold.org/event/largo-middle-school-band-concert/
LOCATION:Auditorium
CATEGORIES:Performance
END:VEVENT
BEGIN:VEVENT
DTSTART;TZID=America/New_York:20250501T144500
DTEND;TZID=America/New_York:20250501T160000
DTSTAMP:20260425T120546
CREATED:20250421T190019Z
LAST-MODIFIED:20250421T190032Z
UID:15741-1746110700-1746115200@lhsbandofgold.org
SUMMARY:Marching Band Leadership Training
DESCRIPTION:Session 1 of 3
URL:https://lhsbandofgold.org/event/marching-band-leadership-training/
LOCATION:Band Room
CATEGORIES:General,Rehearsal
END:VEVENT
BEGIN:VEVENT
DTSTART;TZID=America/New_York:20250425T143000
DTEND;TZID=America/New_York:20250425T160000
DTSTAMP:20260425T120546
CREATED:20250421T184749Z
LAST-MODIFIED:20250421T184749Z
UID:15734-1745591400-1745596800@lhsbandofgold.org
SUMMARY:Gold Band Rehearsal
DESCRIPTION:Pure Imagination\, Water\, How to Train Your Dragon\, Arabesque
URL:https://lhsbandofgold.org/event/gold-band-rehearsal/
LOCATION:Band Room
CATEGORIES:Rehearsal
END:VEVENT
BEGIN:VEVENT
DTSTART;TZID=America/New_York:20250424T144500
DTEND;TZID=America/New_York:20250424T160000
DTSTAMP:20260425T120546
CREATED:20250202T213515Z
LAST-MODIFIED:20250202T213515Z
UID:15568-1745505900-1745510400@lhsbandofgold.org
SUMMARY:Jazz Ensemble Rehearsal
DESCRIPTION:
URL:https://lhsbandofgold.org/event/jazz-ensemble-rehearsal-11/
LOCATION:Band Room
CATEGORIES:Rehearsal
END:VEVENT
BEGIN:VEVENT
DTSTART;TZID=America/New_York:20250423T143000
DTEND;TZID=America/New_York:20250423T160000
DTSTAMP:20260425T120546
CREATED:20250421T184623Z
LAST-MODIFIED:20250421T184623Z
UID:15732-1745418600-1745424000@lhsbandofgold.org
SUMMARY:Band & Orchestra Rehearsal
DESCRIPTION:2:30 pm – Overture from Carmen\, America the Beautiful \n3:15 pm – La La Land\, Variations on a Well-Known Sea Chantey\, Emerald Falcon
URL:https://lhsbandofgold.org/event/band-orchestra-rehearsal-4/
LOCATION:Band Room
CATEGORIES:Rehearsal
END:VEVENT
BEGIN:VEVENT
DTSTART;TZID=America/New_York:20250422T170000
DTEND;TZID=America/New_York:20250422T210000
DTSTAMP:20260425T120546
CREATED:20250202T214432Z
LAST-MODIFIED:20250202T214432Z
UID:15570-1745341200-1745355600@lhsbandofgold.org
SUMMARY:Largo Middle School Concert
DESCRIPTION:Possibly the first of two…details to come
URL:https://lhsbandofgold.org/event/largo-middle-school-concert/
LOCATION:Auditorium
CATEGORIES:Performance
END:VEVENT
END:VCALENDAR