BEGIN:VCALENDAR
VERSION:2.0
PRODID:-//Largo High School Instrumental Music - ECPv6.15.15//NONSGML v1.0//EN
CALSCALE:GREGORIAN
METHOD:PUBLISH
X-WR-CALNAME:Largo High School Instrumental Music
X-ORIGINAL-URL:https://lhsbandofgold.org
X-WR-CALDESC:Events for Largo High School Instrumental Music
REFRESH-INTERVAL;VALUE=DURATION:PT1H
X-Robots-Tag:noindex
X-PUBLISHED-TTL:PT1H
BEGIN:VTIMEZONE
TZID:America/New_York
BEGIN:DAYLIGHT
TZOFFSETFROM:-0500
TZOFFSETTO:-0400
TZNAME:EDT
DTSTART:20240310T070000
END:DAYLIGHT
BEGIN:STANDARD
TZOFFSETFROM:-0400
TZOFFSETTO:-0500
TZNAME:EST
DTSTART:20241103T060000
END:STANDARD
BEGIN:DAYLIGHT
TZOFFSETFROM:-0500
TZOFFSETTO:-0400
TZNAME:EDT
DTSTART:20250309T070000
END:DAYLIGHT
BEGIN:STANDARD
TZOFFSETFROM:-0400
TZOFFSETTO:-0500
TZNAME:EST
DTSTART:20251102T060000
END:STANDARD
BEGIN:DAYLIGHT
TZOFFSETFROM:-0500
TZOFFSETTO:-0400
TZNAME:EDT
DTSTART:20260308T070000
END:DAYLIGHT
BEGIN:STANDARD
TZOFFSETFROM:-0400
TZOFFSETTO:-0500
TZNAME:EST
DTSTART:20261101T060000
END:STANDARD
END:VTIMEZONE
BEGIN:VTIMEZONE
TZID:UTC
BEGIN:STANDARD
TZOFFSETFROM:+0000
TZOFFSETTO:+0000
TZNAME:UTC
DTSTART:20240101T000000
END:STANDARD
END:VTIMEZONE
BEGIN:VEVENT
DTSTART;TZID=America/New_York:20251009T173000
DTEND;TZID=America/New_York:20251009T203000
DTSTAMP:20260425T071329
CREATED:20200930T233457Z
LAST-MODIFIED:20250723T224554Z
UID:9956-1760031000-1760041800@lhsbandofgold.org
SUMMARY:Marching Band Rehearsal
DESCRIPTION:
URL:https://lhsbandofgold.org/event/marching-band-rehearsal-15/
LOCATION:Packer Stadium\, 410 Missouri Ave N\, Largo\, FL\, 33770\, United States
CATEGORIES:Rehearsal
END:VEVENT
BEGIN:VEVENT
DTSTART;TZID=America/New_York:20251007T183000
DTEND;TZID=America/New_York:20251007T200000
DTSTAMP:20260425T071329
CREATED:20250917T121919Z
LAST-MODIFIED:20250917T121922Z
UID:16364-1759861800-1759867200@lhsbandofgold.org
SUMMARY:Fall Concert with Largo Middle
DESCRIPTION:Largo Middle will be presenting a concert in our Auditorium; Gold Band and Golden Strings will both perform as featured special guests. \nFall Concert Poster
URL:https://lhsbandofgold.org/event/fall-concert-with-largo-middle/
LOCATION:Auditorium
CATEGORIES:Performance
END:VEVENT
BEGIN:VEVENT
DTSTART;TZID=America/New_York:20251006T163000
DTEND;TZID=America/New_York:20251006T193000
DTSTAMP:20260425T071329
CREATED:20190726T175916Z
LAST-MODIFIED:20250723T224406Z
UID:2897-1759768200-1759779000@lhsbandofgold.org
SUMMARY:Marching Band Rehearsal
DESCRIPTION:
URL:https://lhsbandofgold.org/event/marching-band-rehearsal-26/
LOCATION:Band Room/Auditorium/Bus Loop
CATEGORIES:Rehearsal
END:VEVENT
BEGIN:VEVENT
DTSTART;VALUE=DATE:20251004
DTEND;VALUE=DATE:20251005
DTSTAMP:20260425T071329
CREATED:20240805T005915Z
LAST-MODIFIED:20250723T204533Z
UID:15036-1759536000-1759622399@lhsbandofgold.org
SUMMARY:Band Contest at Newsome High School
DESCRIPTION:Detailed info will be posted here and sent out via Band app & CutTime closer to the date.
URL:https://lhsbandofgold.org/event/band-contest-at-newsome-high-school/
LOCATION:Newsome High School\, 16550 Fishhawk Blvd.\, Lithia\, FL\, 33547\, United States
CATEGORIES:Performance
END:VEVENT
BEGIN:VEVENT
DTSTART;TZID=America/New_York:20251003T170000
DTEND;TZID=America/New_York:20251003T223000
DTSTAMP:20260425T071329
CREATED:20250723T204451Z
LAST-MODIFIED:20250723T224454Z
UID:16097-1759510800-1759530600@lhsbandofgold.org
SUMMARY:HOME Football Game vs. St. Petersburg HS (Middle School Night)
DESCRIPTION:Middle School students will be joining us for this game.  Detailed info will be posted here and sent out via Band app & CutTime closer to the date.
URL:https://lhsbandofgold.org/event/home-football-game-vs-st-petersburg-hs/
LOCATION:Packer Stadium\, 410 Missouri Ave N\, Largo\, FL\, 33770\, United States
CATEGORIES:Performance
END:VEVENT
BEGIN:VEVENT
DTSTART;TZID=America/New_York:20251002T173000
DTEND;TZID=America/New_York:20251002T203000
DTSTAMP:20260425T071329
CREATED:20190726T175623Z
LAST-MODIFIED:20250723T204124Z
UID:2893-1759426200-1759437000@lhsbandofgold.org
SUMMARY:Marching Band Rehearsal
DESCRIPTION:
URL:https://lhsbandofgold.org/event/marching-band-rehearsal-24/
LOCATION:Packer Stadium\, 410 Missouri Ave N\, Largo\, FL\, 33770\, United States
CATEGORIES:Rehearsal
END:VEVENT
BEGIN:VEVENT
DTSTART;TZID=America/New_York:20250929T163000
DTEND;TZID=America/New_York:20250929T193000
DTSTAMP:20260425T071329
CREATED:20190726T175245Z
LAST-MODIFIED:20250723T204037Z
UID:2891-1759163400-1759174200@lhsbandofgold.org
SUMMARY:Marching Band Rehearsal
DESCRIPTION:
URL:https://lhsbandofgold.org/event/marching-band-rehearsal-23/
LOCATION:Band Room/Auditorium/Bus Loop
CATEGORIES:Rehearsal
END:VEVENT
BEGIN:VEVENT
DTSTART;VALUE=DATE:20250927
DTEND;VALUE=DATE:20250928
DTSTAMP:20260425T071329
CREATED:20190726T182715Z
LAST-MODIFIED:20250723T203622Z
UID:2909-1758931200-1759017599@lhsbandofgold.org
SUMMARY:Seminole Sound Band Contest
DESCRIPTION:Our first band contest of the season! Detailed info will be posted here and sent out via Band app & CutTime closer to the date. \nCertainly expect a short rehearsal before we go to the contest – be sure to have the entire day available.
URL:https://lhsbandofgold.org/event/seminole-sound-band-contest/
LOCATION:Seminole High School\, 8401 131st St N\, Seminole\, FL\, 33776\, United States
CATEGORIES:Performance
END:VEVENT
BEGIN:VEVENT
DTSTART;TZID=America/New_York:20250926T170000
DTEND;TZID=America/New_York:20250926T223000
DTSTAMP:20260425T071329
CREATED:20190726T175214Z
LAST-MODIFIED:20250723T203455Z
UID:2812-1758906000-1758925800@lhsbandofgold.org
SUMMARY:Football Game at Palm Harbor University HS
DESCRIPTION:Detailed info will be posted here and sent out via Band app & CutTime closer to the date.
URL:https://lhsbandofgold.org/event/football-game-vs-lakeland/
LOCATION:Palm Harbor University High School\, 1900 Omaha St\, Palm Harbor\, FL\, 34683\, United States
CATEGORIES:Performance
END:VEVENT
BEGIN:VEVENT
DTSTART;TZID=America/New_York:20250925T173000
DTEND;TZID=America/New_York:20250925T203000
DTSTAMP:20260425T071329
CREATED:20190726T175158Z
LAST-MODIFIED:20250723T203349Z
UID:2889-1758821400-1758832200@lhsbandofgold.org
SUMMARY:Marching Band Rehearsal
DESCRIPTION:
URL:https://lhsbandofgold.org/event/marching-band-rehearsal-22/
LOCATION:Packer Stadium\, 410 Missouri Ave N\, Largo\, FL\, 33770\, United States
CATEGORIES:Rehearsal
END:VEVENT
BEGIN:VEVENT
DTSTART;TZID=America/New_York:20250922T163000
DTEND;TZID=America/New_York:20250922T193000
DTSTAMP:20260425T071329
CREATED:20190726T174852Z
LAST-MODIFIED:20250723T203312Z
UID:2881-1758558600-1758569400@lhsbandofgold.org
SUMMARY:Marching Band Rehearsal
DESCRIPTION:
URL:https://lhsbandofgold.org/event/marching-band-rehearsal-18/
LOCATION:Band Room/Auditorium/Bus Loop
CATEGORIES:Rehearsal
END:VEVENT
BEGIN:VEVENT
DTSTART;TZID=America/New_York:20250920T080000
DTEND;TZID=America/New_York:20250920T140000
DTSTAMP:20260425T071329
CREATED:20190726T180424Z
LAST-MODIFIED:20250723T202816Z
UID:2901-1758355200-1758376800@lhsbandofgold.org
SUMMARY:All-State Band & Orchestra Auditions
DESCRIPTION:Location TBD – we might be hosting this event this year\, but nothing has been confirmed.
URL:https://lhsbandofgold.org/event/all-state-auditions/
CATEGORIES:General
END:VEVENT
BEGIN:VEVENT
DTSTART;TZID=America/New_York:20250919T173000
DTEND;TZID=America/New_York:20250919T210000
DTSTAMP:20260425T071329
CREATED:20190726T175107Z
LAST-MODIFIED:20250907T164808Z
UID:2887-1758303000-1758315600@lhsbandofgold.org
SUMMARY:Marching Band Rehearsal
DESCRIPTION:Since the football game got moved to Thursday night\, this rehearsal got moved to Friday night. \nWe will extend this rehearsal slightly\, until 9:00 instead of 8:30. \nPARENTS who are helping at Seminole Sound come to the last hour (8:00 – 9:00) and we will work out how we are moving all the props\, equipment\, etc.
URL:https://lhsbandofgold.org/event/marching-band-rehearsal-21/
LOCATION:Packer Stadium\, 410 Missouri Ave N\, Largo\, FL\, 33770\, United States
CATEGORIES:Rehearsal
END:VEVENT
BEGIN:VEVENT
DTSTART;TZID=America/New_York:20250919T072500
DTEND;TZID=America/New_York:20250919T135500
DTSTAMP:20260425T071329
CREATED:20230802T195356Z
LAST-MODIFIED:20250723T203159Z
UID:13959-1758266700-1758290100@lhsbandofgold.org
SUMMARY:Teacher Planning Day (no classes\, yes football game)
DESCRIPTION:We DO have the Clearwater game tonight.  Although no classes are currently scheduled\, this is a designated hurricane make-up day\, so if any school days get cancelled due to a storm in August or early September\, we may well end up having classes this day.
URL:https://lhsbandofgold.org/event/teacher-planning-day-no-classes-yes-rehearsal/
LOCATION:Largo High School\, 410 Missouri Ave N\, Largo\, FL\, 33770\, United States
CATEGORIES:School
END:VEVENT
BEGIN:VEVENT
DTSTART;TZID=America/New_York:20250918T170000
DTEND;TZID=America/New_York:20250918T223000
DTSTAMP:20260425T071329
CREATED:20190726T175807Z
LAST-MODIFIED:20250907T164925Z
UID:2820-1758214800-1758234600@lhsbandofgold.org
SUMMARY:HOME Football Game vs. Clearwater HS
DESCRIPTION:Detailed info will be posted here and sent out via Band app & CutTime closer to the date. \nThis game has been moved up to THURSDAY night\, and kickoff will be at 7:00 pm.
URL:https://lhsbandofgold.org/event/football-game-vs-clearwater-hs/
LOCATION:Packer Stadium\, 410 Missouri Ave N\, Largo\, FL\, 33770\, United States
CATEGORIES:Performance
END:VEVENT
BEGIN:VEVENT
DTSTART;TZID=America/New_York:20250916T180000
DTEND;TZID=America/New_York:20250916T190000
DTSTAMP:20260425T071329
CREATED:20240804T204209Z
LAST-MODIFIED:20250907T194439Z
UID:15001-1758045600-1758049200@lhsbandofgold.org
SUMMARY:Band and Orchestra Boosters Board Meeting
DESCRIPTION:Board meetings are always open – ANY and ALL parents are ALWAYS welcome to attend!
URL:https://lhsbandofgold.org/event/band-boosters-board-meeting-2/
LOCATION:Band Room
CATEGORIES:General
END:VEVENT
BEGIN:VEVENT
DTSTART;TZID=America/New_York:20250915T163000
DTEND;TZID=America/New_York:20250915T193000
DTSTAMP:20260425T071329
CREATED:20190726T175019Z
LAST-MODIFIED:20250723T202854Z
UID:2885-1757953800-1757964600@lhsbandofgold.org
SUMMARY:Marching Band Rehearsal
DESCRIPTION:
URL:https://lhsbandofgold.org/event/marching-band-rehearsal-20/
LOCATION:Band Room/Auditorium/Bus Loop
CATEGORIES:Rehearsal
END:VEVENT
BEGIN:VEVENT
DTSTART;TZID=America/New_York:20250913T090000
DTEND;TZID=America/New_York:20250913T160000
DTSTAMP:20260425T071329
CREATED:20210722T160103Z
LAST-MODIFIED:20250723T202649Z
UID:10632-1757754000-1757779200@lhsbandofgold.org
SUMMARY:Marching Band Rehearsal
DESCRIPTION:The Saturday rehearsal for September\, as “Bandtober” rapidly approaches and we are getting in to our contest run.
URL:https://lhsbandofgold.org/event/marching-band-rehearsal-43/
LOCATION:Band Room / Auditorium / Parking Lot
CATEGORIES:Rehearsal
END:VEVENT
BEGIN:VEVENT
DTSTART;TZID=UTC:20250912T170000
DTEND;TZID=UTC:20250912T230000
DTSTAMP:20260425T071329
CREATED:20190513T233723Z
LAST-MODIFIED:20250723T202523Z
UID:2774-1757696400-1757718000@lhsbandofgold.org
SUMMARY:Football Game at Osceola HS
DESCRIPTION:This will be our first AWAY football game.  Detailed info will be posted here and sent out via Band app & CutTime closer to the date.
URL:https://lhsbandofgold.org/event/football-game-at-pinellas-park-hs/
LOCATION:Osceola High School\, 9751 98th St. N\, Seminole\, FL\, 33777\, United States
CATEGORIES:Performance
END:VEVENT
BEGIN:VEVENT
DTSTART;TZID=UTC:20250911T173000
DTEND;TZID=UTC:20250911T203000
DTSTAMP:20260425T071329
CREATED:20190513T232430Z
LAST-MODIFIED:20250723T202343Z
UID:2764-1757611800-1757622600@lhsbandofgold.org
SUMMARY:Marching Band Rehearsal
DESCRIPTION:
URL:https://lhsbandofgold.org/event/marching-band-rehearsal-4/
LOCATION:Packer Stadium\, 410 Missouri Ave N\, Largo\, FL\, 33770\, United States
CATEGORIES:Rehearsal
END:VEVENT
BEGIN:VEVENT
DTSTART;TZID=America/New_York:20250908T160000
DTEND;TZID=America/New_York:20250908T213000
DTSTAMP:20260425T071329
CREATED:20190726T174116Z
LAST-MODIFIED:20250907T194617Z
UID:2879-1757347200-1757367000@lhsbandofgold.org
SUMMARY:Marching Band Rehearsal AND Make-up Game
DESCRIPTION:This is the rescheduled game with Boca Ciega \nWe will begin REHEARSAL in splits at 4:00 \nAt 5:30\, we’ll march in to the stadium (expect pre-game 5:47) \nPERCUSSION will only need battery – we will not do a show. \nKickoff at 6:00 pm \nBreak will be at HALFTIME. \nWe’ll support the team in the stands throughout the game\, then get out as quickly as possible afterward as it is a school night!
URL:https://lhsbandofgold.org/event/marching-band-rehearsal-17/
LOCATION:Band Room/Auditorium/Bus Loop
CATEGORIES:Rehearsal
END:VEVENT
BEGIN:VEVENT
DTSTART;TZID=America/New_York:20250907T140000
DTEND;TZID=America/New_York:20250907T180000
DTSTAMP:20260425T071329
CREATED:20250724T004348Z
LAST-MODIFIED:20250724T004348Z
UID:16114-1757253600-1757268000@lhsbandofgold.org
SUMMARY:Colorguard rehearsal
DESCRIPTION:Not 100% confirmed yet…this would be with a guest clinician
URL:https://lhsbandofgold.org/event/colorguard-rehearsal/
LOCATION:Band Room / Auditorium
END:VEVENT
BEGIN:VEVENT
DTSTART;TZID=UTC:20250906T190000
DTEND;TZID=UTC:20250906T230000
DTSTAMP:20260425T071329
CREATED:20220803T185257Z
LAST-MODIFIED:20250723T204001Z
UID:12216-1757185200-1757199600@lhsbandofgold.org
SUMMARY:Homecoming Dance
DESCRIPTION:This is not been confirmed yet.  As soon as we have more details\, this post will be updated.
URL:https://lhsbandofgold.org/event/homecoming-dance/
CATEGORIES:School
END:VEVENT
BEGIN:VEVENT
DTSTART;TZID=America/New_York:20250905T170000
DTEND;TZID=America/New_York:20250905T233000
DTSTAMP:20260425T071329
CREATED:20190726T175103Z
LAST-MODIFIED:20250723T201526Z
UID:2810-1757091600-1757115000@lhsbandofgold.org
SUMMARY:Homecoming Football Game vs. Boca Ciega HS
DESCRIPTION:Detailed info will be posted here and sent out via Band app & CutTime closer to the date.
URL:https://lhsbandofgold.org/event/football-game-vs-boca-ciega-hs/
LOCATION:Packer Stadium\, 410 Missouri Ave N\, Largo\, FL\, 33770\, United States
CATEGORIES:Performance,School
END:VEVENT
BEGIN:VEVENT
DTSTART;TZID=America/New_York:20250904T173000
DTEND;TZID=America/New_York:20250904T203000
DTSTAMP:20260425T071329
CREATED:20240802T154634Z
LAST-MODIFIED:20250723T201316Z
UID:14988-1757007000-1757017800@lhsbandofgold.org
SUMMARY:Marching Band Rehearsal
DESCRIPTION:
URL:https://lhsbandofgold.org/event/marching-band-rehearsal-40/
LOCATION:Packer Stadium\, 410 Missouri Ave N\, Largo\, FL\, 33770\, United States
CATEGORIES:Rehearsal
END:VEVENT
BEGIN:VEVENT
DTSTART;VALUE=DATE:20250902
DTEND;VALUE=DATE:20250907
DTSTAMP:20260425T071329
CREATED:20250723T201408Z
LAST-MODIFIED:20250723T201408Z
UID:16084-1756771200-1757203199@lhsbandofgold.org
SUMMARY:Homecoming Week
DESCRIPTION:
URL:https://lhsbandofgold.org/event/homecoming-week/
CATEGORIES:School
END:VEVENT
BEGIN:VEVENT
DTSTART;VALUE=DATE:20250901
DTEND;VALUE=DATE:20250902
DTSTAMP:20260425T071329
CREATED:20190726T163647Z
LAST-MODIFIED:20250723T201203Z
UID:2834-1756684800-1756771199@lhsbandofgold.org
SUMMARY:Labor Day
DESCRIPTION:The school is closed on this day. \nNo classes\, no marching band rehearsal – enjoy the day off!
URL:https://lhsbandofgold.org/event/labor-day/
CATEGORIES:General
END:VEVENT
BEGIN:VEVENT
DTSTART;VALUE=DATE:20250830
DTEND;VALUE=DATE:20250901
DTSTAMP:20260425T071329
CREATED:20240804T215455Z
LAST-MODIFIED:20250723T200713Z
UID:15026-1756512000-1756684799@lhsbandofgold.org
SUMMARY:Pinellas Youth Symphony Auditions
DESCRIPTION:Details at www.pysmusic.org
URL:https://lhsbandofgold.org/event/pinellas-youth-symphony-auditions/
LOCATION:Ruth Eckerd Hall
CATEGORIES:General
END:VEVENT
BEGIN:VEVENT
DTSTART;TZID=America/New_York:20250829T170000
DTEND;TZID=America/New_York:20250829T223000
DTSTAMP:20260425T071329
CREATED:20240513T213930Z
LAST-MODIFIED:20250723T201549Z
UID:14819-1756486800-1756506600@lhsbandofgold.org
SUMMARY:Home Football Game vs. Lakewood HS
DESCRIPTION:The team’s first HOME game of the season\, and our first game! Detailed info will be posted here and sent out via Band app & CutTime closer to the date.
URL:https://lhsbandofgold.org/event/football-game-at-lakewood-hs-no-band/
LOCATION:Packer Stadium\, 410 Missouri Ave N\, Largo\, FL\, 33770\, United States
CATEGORIES:Performance,School
END:VEVENT
BEGIN:VEVENT
DTSTART;TZID=America/New_York:20250828T173000
DTEND;TZID=America/New_York:20250828T203000
DTSTAMP:20260425T071329
CREATED:20240513T213820Z
LAST-MODIFIED:20250723T200940Z
UID:14817-1756402200-1756413000@lhsbandofgold.org
SUMMARY:Marching Band Rehearsal
DESCRIPTION:
URL:https://lhsbandofgold.org/event/marching-band-rehearsal-39/
LOCATION:Packer Stadium\, 410 Missouri Ave N\, Largo\, FL\, 33770\, United States
CATEGORIES:Rehearsal
END:VEVENT
END:VCALENDAR