BEGIN:VCALENDAR
VERSION:2.0
PRODID:-//Largo High School Instrumental Music - ECPv6.15.15//NONSGML v1.0//EN
CALSCALE:GREGORIAN
METHOD:PUBLISH
X-WR-CALNAME:Largo High School Instrumental Music
X-ORIGINAL-URL:https://lhsbandofgold.org
X-WR-CALDESC:Events for Largo High School Instrumental Music
REFRESH-INTERVAL;VALUE=DURATION:PT1H
X-Robots-Tag:noindex
X-PUBLISHED-TTL:PT1H
BEGIN:VTIMEZONE
TZID:America/New_York
BEGIN:DAYLIGHT
TZOFFSETFROM:-0500
TZOFFSETTO:-0400
TZNAME:EDT
DTSTART:20230312T070000
END:DAYLIGHT
BEGIN:STANDARD
TZOFFSETFROM:-0400
TZOFFSETTO:-0500
TZNAME:EST
DTSTART:20231105T060000
END:STANDARD
BEGIN:DAYLIGHT
TZOFFSETFROM:-0500
TZOFFSETTO:-0400
TZNAME:EDT
DTSTART:20240310T070000
END:DAYLIGHT
BEGIN:STANDARD
TZOFFSETFROM:-0400
TZOFFSETTO:-0500
TZNAME:EST
DTSTART:20241103T060000
END:STANDARD
BEGIN:DAYLIGHT
TZOFFSETFROM:-0500
TZOFFSETTO:-0400
TZNAME:EDT
DTSTART:20250309T070000
END:DAYLIGHT
BEGIN:STANDARD
TZOFFSETFROM:-0400
TZOFFSETTO:-0500
TZNAME:EST
DTSTART:20251102T060000
END:STANDARD
BEGIN:DAYLIGHT
TZOFFSETFROM:-0500
TZOFFSETTO:-0400
TZNAME:EDT
DTSTART:20260308T070000
END:DAYLIGHT
BEGIN:STANDARD
TZOFFSETFROM:-0400
TZOFFSETTO:-0500
TZNAME:EST
DTSTART:20261101T060000
END:STANDARD
END:VTIMEZONE
BEGIN:VEVENT
DTSTART;TZID=America/New_York:20250310T163000
DTEND;TZID=America/New_York:20250310T193000
DTSTAMP:20260425T191957
CREATED:20250117T194349Z
LAST-MODIFIED:20250117T194349Z
UID:15473-1741624200-1741635000@lhsbandofgold.org
SUMMARY:Percussion Ensemble Rehearsal
DESCRIPTION:
URL:https://lhsbandofgold.org/event/percussion-ensemble-rehearsal-16/
LOCATION:Band Room
CATEGORIES:Rehearsal
END:VEVENT
BEGIN:VEVENT
DTSTART;TZID=America/New_York:20250310T160000
DTEND;TZID=America/New_York:20250310T193000
DTSTAMP:20260425T191957
CREATED:20250117T194306Z
LAST-MODIFIED:20250117T194306Z
UID:15471-1741622400-1741635000@lhsbandofgold.org
SUMMARY:IMAGE Indoor Colorguard Rehearsal
DESCRIPTION:
URL:https://lhsbandofgold.org/event/image-indoor-colorguard-rehearsal/
LOCATION:Largo High School\, 410 Missouri Ave N\, Largo\, FL\, 33770\, United States
CATEGORIES:Rehearsal
END:VEVENT
BEGIN:VEVENT
DTSTART;VALUE=DATE:20250308
DTEND;VALUE=DATE:20250309
DTSTAMP:20260425T191957
CREATED:20240116T004540Z
LAST-MODIFIED:20250117T193945Z
UID:14396-1741392000-1741478399@lhsbandofgold.org
SUMMARY:IMAGE Indoor Colorguard Rehearsal Camp
DESCRIPTION:Exact Times TBD
URL:https://lhsbandofgold.org/event/image-indoor-colorguard-contest-at-lakewood-ranch-hs/
LOCATION:Largo High School\, 410 Missouri Ave N\, Largo\, FL\, 33770\, United States
CATEGORIES:Rehearsal
END:VEVENT
BEGIN:VEVENT
DTSTART;TZID=America/New_York:20250306T170000
DTEND;TZID=America/New_York:20250306T203000
DTSTAMP:20260425T191957
CREATED:20250117T193337Z
LAST-MODIFIED:20250117T193337Z
UID:15462-1741280400-1741293000@lhsbandofgold.org
SUMMARY:Percussion Ensemble Rehearsal
DESCRIPTION:
URL:https://lhsbandofgold.org/event/percussion-ensemble-rehearsal-15/
LOCATION:Band Room
END:VEVENT
BEGIN:VEVENT
DTSTART;TZID=America/New_York:20250306T170000
DTEND;TZID=America/New_York:20250306T203000
DTSTAMP:20260425T191957
CREATED:20211129T221055Z
LAST-MODIFIED:20250117T193635Z
UID:10947-1741280400-1741293000@lhsbandofgold.org
SUMMARY:IMAGE Indoor Colorguard Rehearsal
DESCRIPTION:
URL:https://lhsbandofgold.org/event/image-indoor-colorguard-rehearsal-46/
LOCATION:Largo High School\, 410 Missouri Ave N\, Largo\, FL\, 33770\, United States
CATEGORIES:Rehearsal
END:VEVENT
BEGIN:VEVENT
DTSTART;TZID=America/New_York:20250303T163000
DTEND;TZID=America/New_York:20250303T193000
DTSTAMP:20260425T191957
CREATED:20250117T193228Z
LAST-MODIFIED:20250117T193228Z
UID:15460-1741019400-1741030200@lhsbandofgold.org
SUMMARY:Percussion Ensemble Rehearsal
DESCRIPTION:
URL:https://lhsbandofgold.org/event/percussion-ensemble-rehearsal-14/
LOCATION:Band Room
CATEGORIES:Rehearsal
END:VEVENT
BEGIN:VEVENT
DTSTART;TZID=America/New_York:20250303T160000
DTEND;TZID=America/New_York:20250303T193000
DTSTAMP:20260425T191957
CREATED:20211129T220942Z
LAST-MODIFIED:20250117T193134Z
UID:10945-1741017600-1741030200@lhsbandofgold.org
SUMMARY:IMAGE Indoor Colorguard Rehearsal
DESCRIPTION:
URL:https://lhsbandofgold.org/event/image-indoor-colorguard-rehearsal-45/
LOCATION:Largo High School\, 410 Missouri Ave N\, Largo\, FL\, 33770\, United States
CATEGORIES:Rehearsal
END:VEVENT
BEGIN:VEVENT
DTSTART;TZID=America/New_York:20250228T160000
DTEND;TZID=America/New_York:20250228T193000
DTSTAMP:20260425T191957
CREATED:20211129T215842Z
LAST-MODIFIED:20250117T183416Z
UID:10925-1740758400-1740771000@lhsbandofgold.org
SUMMARY:IMAGE Indoor Colorguard Rehearsal
DESCRIPTION:
URL:https://lhsbandofgold.org/event/image-indoor-colorguard-rehearsal-35/
LOCATION:Largo High School\, 410 Missouri Ave N\, Largo\, FL\, 33770\, United States
CATEGORIES:Rehearsal
END:VEVENT
BEGIN:VEVENT
DTSTART;TZID=America/New_York:20250227T170000
DTEND;TZID=America/New_York:20250227T203000
DTSTAMP:20260425T191957
CREATED:20250117T183317Z
LAST-MODIFIED:20250117T183317Z
UID:15458-1740675600-1740688200@lhsbandofgold.org
SUMMARY:Percussion Ensemble Rehearsal
DESCRIPTION:
URL:https://lhsbandofgold.org/event/percussion-ensemble-rehearsal-13/
LOCATION:Band Room
CATEGORIES:Rehearsal
END:VEVENT
BEGIN:VEVENT
DTSTART;TZID=America/New_York:20250227T170000
DTEND;TZID=America/New_York:20250227T203000
DTSTAMP:20260425T191957
CREATED:20211129T220903Z
LAST-MODIFIED:20250117T183229Z
UID:10943-1740675600-1740688200@lhsbandofgold.org
SUMMARY:IMAGE Indoor Colorguard Rehearsal
DESCRIPTION:
URL:https://lhsbandofgold.org/event/image-indoor-colorguard-rehearsal-44/
LOCATION:Largo High School\, 410 Missouri Ave N\, Largo\, FL\, 33770\, United States
CATEGORIES:Rehearsal
END:VEVENT
BEGIN:VEVENT
DTSTART;TZID=America/New_York:20250224T163000
DTEND;TZID=America/New_York:20250224T193000
DTSTAMP:20260425T191957
CREATED:20250117T183118Z
LAST-MODIFIED:20250117T183118Z
UID:15456-1740414600-1740425400@lhsbandofgold.org
SUMMARY:Percussion Ensemble Rehearsal
DESCRIPTION:
URL:https://lhsbandofgold.org/event/percussion-ensemble-rehearsal-12/
LOCATION:Band Room
CATEGORIES:Rehearsal
END:VEVENT
BEGIN:VEVENT
DTSTART;TZID=America/New_York:20250224T160000
DTEND;TZID=America/New_York:20250224T193000
DTSTAMP:20260425T191957
CREATED:20211129T220816Z
LAST-MODIFIED:20250117T183030Z
UID:10941-1740412800-1740425400@lhsbandofgold.org
SUMMARY:IMAGE Indoor Colorguard Rehearsal
DESCRIPTION:
URL:https://lhsbandofgold.org/event/image-indoor-colorguard-rehearsal-43/
LOCATION:Largo High School\, 410 Missouri Ave N\, Largo\, FL\, 33770\, United States
CATEGORIES:Rehearsal
END:VEVENT
BEGIN:VEVENT
DTSTART;TZID=America/New_York:20250220T170000
DTEND;TZID=America/New_York:20250220T203000
DTSTAMP:20260425T191957
CREATED:20211129T220716Z
LAST-MODIFIED:20250117T182354Z
UID:10939-1740070800-1740083400@lhsbandofgold.org
SUMMARY:IMAGE Indoor Colorguard Rehearsal
DESCRIPTION:
URL:https://lhsbandofgold.org/event/image-indoor-colorguard-rehearsal-42/
LOCATION:Largo High School\, 410 Missouri Ave N\, Largo\, FL\, 33770\, United States
CATEGORIES:Rehearsal
END:VEVENT
BEGIN:VEVENT
DTSTART;VALUE=DATE:20250220
DTEND;VALUE=DATE:20250222
DTSTAMP:20260425T191957
CREATED:20211130T003553Z
LAST-MODIFIED:20250117T182511Z
UID:11038-1740009600-1740182399@lhsbandofgold.org
SUMMARY:Orchestra District MPA
DESCRIPTION:Our performance date/time has not been determined yet.
URL:https://lhsbandofgold.org/event/orchestra-district-mpa/
LOCATION:St. Paul United Methodist Church\, 1199 S Highland Ave\, Largo\, FL\, 33770\, United States
CATEGORIES:Performance
END:VEVENT
BEGIN:VEVENT
DTSTART;TZID=America/New_York:20250217T170000
DTEND;TZID=America/New_York:20250217T193000
DTSTAMP:20260425T191957
CREATED:20250202T211813Z
LAST-MODIFIED:20250202T211813Z
UID:15530-1739811600-1739820600@lhsbandofgold.org
SUMMARY:Rehearsals with Ms. Kibart
DESCRIPTION:For solos that are being accompanied by Ms. Staisy Kibart.  Sign up list is posted by Mr. Benoit’s office.
URL:https://lhsbandofgold.org/event/rehearsals-with-ms-kibart-2/
LOCATION:Chorus Room
CATEGORIES:Rehearsal
END:VEVENT
BEGIN:VEVENT
DTSTART;TZID=America/New_York:20250217T160000
DTEND;TZID=America/New_York:20250217T193000
DTSTAMP:20260425T191957
CREATED:20211129T220609Z
LAST-MODIFIED:20250117T182118Z
UID:10937-1739808000-1739820600@lhsbandofgold.org
SUMMARY:IMAGE Indoor Colorguard Rehearsal
DESCRIPTION:
URL:https://lhsbandofgold.org/event/image-indoor-colorguard-rehearsal-41/
LOCATION:Largo High School\, 410 Missouri Ave N\, Largo\, FL\, 33770\, United States
CATEGORIES:Rehearsal
END:VEVENT
BEGIN:VEVENT
DTSTART;TZID=America/New_York:20250211T170000
DTEND;TZID=America/New_York:20250211T193000
DTSTAMP:20260425T191957
CREATED:20250202T211701Z
LAST-MODIFIED:20250202T211701Z
UID:15528-1739293200-1739302200@lhsbandofgold.org
SUMMARY:Rehearsals with Ms. Kibart
DESCRIPTION:For solos that are being accompanied by Ms. Staisy Kibart.  Sign up list is posted by Mr. Benoit’s office.
URL:https://lhsbandofgold.org/event/rehearsals-with-ms-kibart/
LOCATION:Band Room
CATEGORIES:Rehearsal
END:VEVENT
BEGIN:VEVENT
DTSTART;TZID=America/New_York:20250208T110000
DTEND;TZID=America/New_York:20250208T133000
DTSTAMP:20260425T191957
CREATED:20211130T001557Z
LAST-MODIFIED:20250104T220549Z
UID:11008-1739012400-1739021400@lhsbandofgold.org
SUMMARY:All County Orchestra Concert
DESCRIPTION:The exact schedule for the day has not been determined yet.
URL:https://lhsbandofgold.org/event/all-county-orchestra-concert-2/
LOCATION:The Mahaffey Theater\, 400 First St S\, St Petersburg\, FL\, 33701\, United States
CATEGORIES:Performance
END:VEVENT
BEGIN:VEVENT
DTSTART;TZID=America/New_York:20250207T160000
DTEND;TZID=America/New_York:20250207T200000
DTSTAMP:20260425T191957
CREATED:20211130T001415Z
LAST-MODIFIED:20250104T220312Z
UID:11006-1738944000-1738958400@lhsbandofgold.org
SUMMARY:All County Orchestra Rehearsal
DESCRIPTION:This is the third of three rehearsals
URL:https://lhsbandofgold.org/event/all-county-orchestra-rehearsal-3/
LOCATION:Auditorium
CATEGORIES:Rehearsal
END:VEVENT
BEGIN:VEVENT
DTSTART;TZID=America/New_York:20250206T160000
DTEND;TZID=America/New_York:20250206T200000
DTSTAMP:20260425T191957
CREATED:20211130T001322Z
LAST-MODIFIED:20250104T220214Z
UID:11004-1738857600-1738872000@lhsbandofgold.org
SUMMARY:All County Orchestra Rehearsal
DESCRIPTION:This is the second of three rehearsals
URL:https://lhsbandofgold.org/event/all-county-orchestra-rehearsal-2/
LOCATION:Auditorium
CATEGORIES:Rehearsal
END:VEVENT
BEGIN:VEVENT
DTSTART;TZID=America/New_York:20250204T144500
DTEND;TZID=America/New_York:20250204T160000
DTSTAMP:20260425T191957
CREATED:20250202T211307Z
LAST-MODIFIED:20250202T211307Z
UID:15522-1738680300-1738684800@lhsbandofgold.org
SUMMARY:Jazz Band Organizational Rehearsal
DESCRIPTION:Our first rehearsal for our newly revived jazz program!
URL:https://lhsbandofgold.org/event/jazz-band-organizational-rehearsal/
LOCATION:Band Room
CATEGORIES:Rehearsal
END:VEVENT
BEGIN:VEVENT
DTSTART;TZID=America/New_York:20250130T160000
DTEND;TZID=America/New_York:20250130T200000
DTSTAMP:20260425T191957
CREATED:20211130T001235Z
LAST-MODIFIED:20250104T220141Z
UID:11002-1738252800-1738267200@lhsbandofgold.org
SUMMARY:All County Orchestra Rehearsal
DESCRIPTION:This the first of three rehearsals
URL:https://lhsbandofgold.org/event/all-county-orchestra-rehearsal/
LOCATION:Auditorium
CATEGORIES:Rehearsal
END:VEVENT
BEGIN:VEVENT
DTSTART;TZID=America/New_York:20250129T183000
DTEND;TZID=America/New_York:20250129T203000
DTSTAMP:20260425T191957
CREATED:20250117T164105Z
LAST-MODIFIED:20250117T164105Z
UID:15429-1738175400-1738182600@lhsbandofgold.org
SUMMARY:FOA & FBA District Meetings
DESCRIPTION:
URL:https://lhsbandofgold.org/event/foa-fba-district-meetings/
LOCATION:Band Room
CATEGORIES:General
END:VEVENT
BEGIN:VEVENT
DTSTART;VALUE=DATE:20250121
DTEND;VALUE=DATE:20250122
DTSTAMP:20260425T191957
CREATED:20211130T000704Z
LAST-MODIFIED:20250104T221252Z
UID:10998-1737417600-1737503999@lhsbandofgold.org
SUMMARY:All County Band Concert
DESCRIPTION:Exact schedule for dress rehearsal and performance TBA
URL:https://lhsbandofgold.org/event/all-county-band-concert-2/
LOCATION:The Mahaffey Theater\, 400 First St S\, St Petersburg\, FL\, 33701\, United States
CATEGORIES:Performance
END:VEVENT
BEGIN:VEVENT
DTSTART;VALUE=DATE:20250118
DTEND;VALUE=DATE:20250119
DTSTAMP:20260425T191957
CREATED:20230803T204539Z
LAST-MODIFIED:20250104T220503Z
UID:14002-1737158400-1737244799@lhsbandofgold.org
SUMMARY:IMAGE Premiere at Lakewood Ranch HS
DESCRIPTION:
URL:https://lhsbandofgold.org/event/image-premiere-tentative/
LOCATION:Lakewood Ranch High School\, 5500 Lakewood Ranch Blvd\, Bradenton\, FL\, 34205\, United States
CATEGORIES:Performance
END:VEVENT
BEGIN:VEVENT
DTSTART;TZID=America/New_York:20250117T083000
DTEND;TZID=America/New_York:20250117T153000
DTSTAMP:20260425T191957
CREATED:20211129T235224Z
LAST-MODIFIED:20250104T221205Z
UID:10996-1737102600-1737127800@lhsbandofgold.org
SUMMARY:All County Band Rehearsal
DESCRIPTION:The third of three; this one has been moved!  It is now at HOLLINS High School\, and it is DURING the day.  Times are NOT confirmed\, and may still change slightly.
URL:https://lhsbandofgold.org/event/all-county-band-rehearsal-3/
LOCATION:Hollins High School\, 4940 62nd St N\, St Petersburg\, FL\, 33709\, United States
CATEGORIES:Rehearsal
END:VEVENT
BEGIN:VEVENT
DTSTART;TZID=America/New_York:20250116T160000
DTEND;TZID=America/New_York:20250116T210000
DTSTAMP:20260425T191957
CREATED:20211129T235109Z
LAST-MODIFIED:20250104T220736Z
UID:10994-1737043200-1737061200@lhsbandofgold.org
SUMMARY:All County Band Rehearsal
DESCRIPTION:The second of three
URL:https://lhsbandofgold.org/event/all-county-band-rehearsal-2/
LOCATION:Seminole High School\, 8401 131st St N\, Seminole\, FL\, 33776\, United States
CATEGORIES:Rehearsal
END:VEVENT
BEGIN:VEVENT
DTSTART;TZID=America/New_York:20250115T160000
DTEND;TZID=America/New_York:20250115T190000
DTSTAMP:20260425T191957
CREATED:20211129T235013Z
LAST-MODIFIED:20250104T220658Z
UID:10992-1736956800-1736967600@lhsbandofgold.org
SUMMARY:All County Band Rehearsal
DESCRIPTION:The first of three.
URL:https://lhsbandofgold.org/event/all-county-band-rehearsal/
LOCATION:Seminole High School\, 8401 131st St N\, Seminole\, FL\, 33776\, United States
CATEGORIES:Rehearsal
END:VEVENT
BEGIN:VEVENT
DTSTART;TZID=America/New_York:20250109T170000
DTEND;TZID=America/New_York:20250109T190000
DTSTAMP:20260425T191957
CREATED:20181023T202740Z
LAST-MODIFIED:20250104T215004Z
UID:914-1736442000-1736449200@lhsbandofgold.org
SUMMARY:FMEA College Night
DESCRIPTION:Your chance to visit with representatives from a large number of College and University Music programs. \nThe event is from 5:00 pm – 7:00 pm in the Tampa Convention Center Exhibit Hall – note that if you have gone to this event in a prior year\, it is on Thursday night instead of Friday and in the Exhibit Hall instead of West Hall B \nThere is no free parking in downtown Tampa\, so you will need to pay to park somewhere.  The event itself is free to attend; parking is your only expense. \nWhen you enter the convention center\, go up the escalators\, then there are some steps to go up just a little farther…at the top of that is where the exhibit halls are. \nFurther details at:  https://fmea.org/conference/college-night/
URL:https://lhsbandofgold.org/event/fmea-college-night/
LOCATION:Exhibit Hall\, Tampa Convention Center\, 333 S Franklin St\, Tampa\, FL\, 33602\, United States
CATEGORIES:General
END:VEVENT
BEGIN:VEVENT
DTSTART;TZID=America/New_York:20240220T190000
DTEND;TZID=America/New_York:20240220T203000
DTSTAMP:20260425T191957
CREATED:20230803T204736Z
LAST-MODIFIED:20230803T204737Z
UID:14005-1708455600-1708461000@lhsbandofgold.org
SUMMARY:Orchestra Pre-MPA Concert
DESCRIPTION:This will tentatively include the Largo Middle School Orchestra.
URL:https://lhsbandofgold.org/event/orchestra-pre-mpa-concert/
LOCATION:Auditorium
CATEGORIES:Performance
END:VEVENT
END:VCALENDAR