BEGIN:VCALENDAR
VERSION:2.0
PRODID:-//Largo High School Instrumental Music - ECPv6.15.15//NONSGML v1.0//EN
CALSCALE:GREGORIAN
METHOD:PUBLISH
X-ORIGINAL-URL:https://lhsbandofgold.org
X-WR-CALDESC:Events for Largo High School Instrumental Music
REFRESH-INTERVAL;VALUE=DURATION:PT1H
X-Robots-Tag:noindex
X-PUBLISHED-TTL:PT1H
BEGIN:VTIMEZONE
TZID:America/New_York
BEGIN:DAYLIGHT
TZOFFSETFROM:-0500
TZOFFSETTO:-0400
TZNAME:EDT
DTSTART:20250309T070000
END:DAYLIGHT
BEGIN:STANDARD
TZOFFSETFROM:-0400
TZOFFSETTO:-0500
TZNAME:EST
DTSTART:20251102T060000
END:STANDARD
BEGIN:DAYLIGHT
TZOFFSETFROM:-0500
TZOFFSETTO:-0400
TZNAME:EDT
DTSTART:20260308T070000
END:DAYLIGHT
BEGIN:STANDARD
TZOFFSETFROM:-0400
TZOFFSETTO:-0500
TZNAME:EST
DTSTART:20261101T060000
END:STANDARD
BEGIN:DAYLIGHT
TZOFFSETFROM:-0500
TZOFFSETTO:-0400
TZNAME:EDT
DTSTART:20270314T070000
END:DAYLIGHT
BEGIN:STANDARD
TZOFFSETFROM:-0400
TZOFFSETTO:-0500
TZNAME:EST
DTSTART:20271107T060000
END:STANDARD
END:VTIMEZONE
BEGIN:VEVENT
DTSTART;TZID=America/New_York:20260219T163000
DTEND;TZID=America/New_York:20260219T183000
DTSTAMP:20260425T071540
CREATED:20250117T163445Z
LAST-MODIFIED:20260131T221617Z
UID:15425-1771518600-1771525800@lhsbandofgold.org
SUMMARY:Percussion Ensemble Rehearsal
DESCRIPTION:
URL:https://lhsbandofgold.org/event/percussion-ensemble-rehearsal-3/
LOCATION:Band Room
CATEGORIES:Rehearsal
END:VEVENT
BEGIN:VEVENT
DTSTART;TZID=America/New_York:20260219T170000
DTEND;TZID=America/New_York:20260219T203000
DTSTAMP:20260425T071540
CREATED:20211129T215441Z
LAST-MODIFIED:20260131T221523Z
UID:10919-1771520400-1771533000@lhsbandofgold.org
SUMMARY:IMAGE Indoor Colorguard Rehearsal
DESCRIPTION:
URL:https://lhsbandofgold.org/event/image-indoor-colorguard-rehearsal-32/
LOCATION:Largo High School\, 410 Missouri Ave N\, Largo\, FL\, 33770\, United States
CATEGORIES:Rehearsal
END:VEVENT
BEGIN:VEVENT
DTSTART;TZID=America/New_York:20260223T144500
DTEND;TZID=America/New_York:20260223T160000
DTSTAMP:20260425T071540
CREATED:20250202T213134Z
LAST-MODIFIED:20260131T222134Z
UID:15556-1771857900-1771862400@lhsbandofgold.org
SUMMARY:Jazz Ensemble Rehearsal
DESCRIPTION:
URL:https://lhsbandofgold.org/event/jazz-ensemble-rehearsal-5/
LOCATION:Band Room
CATEGORIES:Rehearsal
END:VEVENT
BEGIN:VEVENT
DTSTART;TZID=America/New_York:20260223T160000
DTEND;TZID=America/New_York:20260223T193000
DTSTAMP:20260425T071540
CREATED:20211129T220104Z
LAST-MODIFIED:20260131T222222Z
UID:10929-1771862400-1771875000@lhsbandofgold.org
SUMMARY:IMAGE Indoor Colorguard Rehearsal
DESCRIPTION:
URL:https://lhsbandofgold.org/event/image-indoor-colorguard-rehearsal-37/
LOCATION:Largo High School\, 410 Missouri Ave N\, Largo\, FL\, 33770\, United States
CATEGORIES:Rehearsal
END:VEVENT
BEGIN:VEVENT
DTSTART;TZID=America/New_York:20260223T163000
DTEND;TZID=America/New_York:20260223T183000
DTSTAMP:20260425T071540
CREATED:20250117T165659Z
LAST-MODIFIED:20260131T222313Z
UID:15436-1771864200-1771871400@lhsbandofgold.org
SUMMARY:Percussion Ensemble Rehearsal
DESCRIPTION:
URL:https://lhsbandofgold.org/event/percussion-ensemble-rehearsal-7/
LOCATION:Band Room
CATEGORIES:Rehearsal
END:VEVENT
BEGIN:VEVENT
DTSTART;TZID=America/New_York:20260226T170000
DTEND;TZID=America/New_York:20260226T203000
DTSTAMP:20260425T071540
CREATED:20211129T212651Z
LAST-MODIFIED:20260131T223447Z
UID:10903-1772125200-1772137800@lhsbandofgold.org
SUMMARY:IMAGE Indoor Colorguard Rehearsal
DESCRIPTION:
URL:https://lhsbandofgold.org/event/image-indoor-colorguard-rehearsal-10/
LOCATION:Largo High School\, 410 Missouri Ave N\, Largo\, FL\, 33770\, United States
CATEGORIES:Rehearsal
END:VEVENT
BEGIN:VEVENT
DTSTART;VALUE=DATE:20260227
DTEND;VALUE=DATE:20260228
DTSTAMP:20260425T071540
CREATED:20250117T194715Z
LAST-MODIFIED:20260131T222909Z
UID:15480-1772150400-1772236799@lhsbandofgold.org
SUMMARY:Indoor Show Set-up & final rehearsals
DESCRIPTION:Schedule for day TBD – EVERYONE is needed to do as much set up as we can TODAY rather than Saturday morning!
URL:https://lhsbandofgold.org/event/indoor-show-set-up-final-rehearsals/
LOCATION:Largo High School\, 410 Missouri Ave N\, Largo\, FL\, 33770\, United States
CATEGORIES:Fundraiser,General,Rehearsal
END:VEVENT
BEGIN:VEVENT
DTSTART;TZID=America/New_York:20260302T144500
DTEND;TZID=America/New_York:20260302T160000
DTSTAMP:20260425T071540
CREATED:20250202T213210Z
LAST-MODIFIED:20260131T225120Z
UID:15558-1772462700-1772467200@lhsbandofgold.org
SUMMARY:Jazz Band Rehearsal
DESCRIPTION:
URL:https://lhsbandofgold.org/event/jazz-ensemble-rehearsal-6/
LOCATION:Band Room
CATEGORIES:Rehearsal
END:VEVENT
BEGIN:VEVENT
DTSTART;TZID=America/New_York:20260302T160000
DTEND;TZID=America/New_York:20260302T193000
DTSTAMP:20260425T071540
CREATED:20211129T215729Z
LAST-MODIFIED:20260131T225915Z
UID:10923-1772467200-1772479800@lhsbandofgold.org
SUMMARY:IMAGE Indoor Colorguard Rehearsal
DESCRIPTION:This rehearsal will be in the auditorium due to the curriculum fair.
URL:https://lhsbandofgold.org/event/image-indoor-colorguard-rehearsal-34/
LOCATION:Largo High School\, 410 Missouri Ave N\, Largo\, FL\, 33770\, United States
CATEGORIES:Rehearsal
END:VEVENT
BEGIN:VEVENT
DTSTART;TZID=America/New_York:20260302T163000
DTEND;TZID=America/New_York:20260302T183000
DTSTAMP:20260425T071540
CREATED:20250117T165509Z
LAST-MODIFIED:20260131T224457Z
UID:15433-1772469000-1772476200@lhsbandofgold.org
SUMMARY:Percussion Ensemble Rehearsal
DESCRIPTION:
URL:https://lhsbandofgold.org/event/percussion-ensemble-rehearsal-6/
LOCATION:Band Room
CATEGORIES:Rehearsal
END:VEVENT
BEGIN:VEVENT
DTSTART;TZID=America/New_York:20260303T144500
DTEND;TZID=America/New_York:20260303T161500
DTSTAMP:20260425T071540
CREATED:20250202T212658Z
LAST-MODIFIED:20260131T220812Z
UID:15543-1772549100-1772554500@lhsbandofgold.org
SUMMARY:Gold Band MPA Rehearsal
DESCRIPTION:2nd of 3.
URL:https://lhsbandofgold.org/event/gold-band-mpa-rehearsal-2/
LOCATION:Band Room
CATEGORIES:Rehearsal
END:VEVENT
BEGIN:VEVENT
DTSTART;TZID=America/New_York:20260305T144500
DTEND;TZID=America/New_York:20260305T161500
DTSTAMP:20260425T071540
CREATED:20250202T212757Z
LAST-MODIFIED:20260131T220948Z
UID:15546-1772721900-1772727300@lhsbandofgold.org
SUMMARY:Gold Band MPA Rehearsal
DESCRIPTION:3rd of 3
URL:https://lhsbandofgold.org/event/gold-band-mpa-rehearsal-3/
LOCATION:Band Room
CATEGORIES:Rehearsal
END:VEVENT
BEGIN:VEVENT
DTSTART;TZID=America/New_York:20260305T163000
DTEND;TZID=America/New_York:20260305T183000
DTSTAMP:20260425T071540
CREATED:20250117T182205Z
LAST-MODIFIED:20260131T225407Z
UID:15448-1772728200-1772735400@lhsbandofgold.org
SUMMARY:Percussion Ensemble Rehearsal
DESCRIPTION:
URL:https://lhsbandofgold.org/event/percussion-ensemble-rehearsal-10/
LOCATION:Band Room
CATEGORIES:Rehearsal
END:VEVENT
BEGIN:VEVENT
DTSTART;TZID=America/New_York:20260305T170000
DTEND;TZID=America/New_York:20260305T203000
DTSTAMP:20260425T071541
CREATED:20211129T220410Z
LAST-MODIFIED:20260131T225322Z
UID:10933-1772730000-1772742600@lhsbandofgold.org
SUMMARY:IMAGE Indoor Colorguard Rehearsal
DESCRIPTION:
URL:https://lhsbandofgold.org/event/image-indoor-colorguard-rehearsal-39/
LOCATION:Largo High School\, 410 Missouri Ave N\, Largo\, FL\, 33770\, United States
CATEGORIES:Rehearsal
END:VEVENT
BEGIN:VEVENT
DTSTART;TZID=America/New_York:20260306T160000
DTEND;TZID=America/New_York:20260306T193000
DTSTAMP:20260425T071541
CREATED:20211129T220145Z
LAST-MODIFIED:20260131T225224Z
UID:10931-1772812800-1772825400@lhsbandofgold.org
SUMMARY:IMAGE Indoor Colorguard Rehearsal
DESCRIPTION:
URL:https://lhsbandofgold.org/event/image-indoor-colorguard-rehearsal-38/
LOCATION:Largo High School\, 410 Missouri Ave N\, Largo\, FL\, 33770\, United States
CATEGORIES:Rehearsal
END:VEVENT
BEGIN:VEVENT
DTSTART;TZID=America/New_York:20260309T144500
DTEND;TZID=America/New_York:20260309T160000
DTSTAMP:20260425T071541
CREATED:20250202T213247Z
LAST-MODIFIED:20260131T230320Z
UID:15560-1773067500-1773072000@lhsbandofgold.org
SUMMARY:Jazz Ensemble Rehearsal
DESCRIPTION:
URL:https://lhsbandofgold.org/event/jazz-ensemble-rehearsal-7/
LOCATION:Band Room
CATEGORIES:Rehearsal
END:VEVENT
BEGIN:VEVENT
DTSTART;TZID=America/New_York:20260309T160000
DTEND;TZID=America/New_York:20260309T193000
DTSTAMP:20260425T071541
CREATED:20211129T220015Z
LAST-MODIFIED:20260131T225748Z
UID:10927-1773072000-1773084600@lhsbandofgold.org
SUMMARY:IMAGE Indoor Colorguard Rehearsal
DESCRIPTION:
URL:https://lhsbandofgold.org/event/image-indoor-colorguard-rehearsal-36/
LOCATION:Largo High School\, 410 Missouri Ave N\, Largo\, FL\, 33770\, United States
CATEGORIES:Rehearsal
END:VEVENT
BEGIN:VEVENT
DTSTART;TZID=America/New_York:20260309T163000
DTEND;TZID=America/New_York:20260309T183000
DTSTAMP:20260425T071541
CREATED:20250117T171713Z
LAST-MODIFIED:20260131T230226Z
UID:15443-1773073800-1773081000@lhsbandofgold.org
SUMMARY:Percussion Ensemble Rehearsal
DESCRIPTION:
URL:https://lhsbandofgold.org/event/percussion-ensemble-rehearsal-9/
LOCATION:Band Room
CATEGORIES:Rehearsal
END:VEVENT
BEGIN:VEVENT
DTSTART;TZID=America/New_York:20260312T144500
DTEND;TZID=America/New_York:20260312T160000
DTSTAMP:20260425T071541
CREATED:20250202T213325Z
LAST-MODIFIED:20260206T122831Z
UID:15562-1773326700-1773331200@lhsbandofgold.org
SUMMARY:Jazz Ensemble Rehearsal
DESCRIPTION:
URL:https://lhsbandofgold.org/event/jazz-ensemble-rehearsal-8/
LOCATION:Band Room
CATEGORIES:Rehearsal
END:VEVENT
BEGIN:VEVENT
DTSTART;TZID=America/New_York:20260312T163000
DTEND;TZID=America/New_York:20260312T183000
DTSTAMP:20260425T071541
CREATED:20250117T182255Z
LAST-MODIFIED:20260206T122923Z
UID:15450-1773333000-1773340200@lhsbandofgold.org
SUMMARY:Percussion Ensemble Rehearsal
DESCRIPTION:
URL:https://lhsbandofgold.org/event/percussion-ensemble-rehearsal-11/
LOCATION:Band Room
CATEGORIES:Rehearsal
END:VEVENT
BEGIN:VEVENT
DTSTART;TZID=America/New_York:20260312T170000
DTEND;TZID=America/New_York:20260312T203000
DTSTAMP:20260425T071541
CREATED:20211129T220501Z
LAST-MODIFIED:20260206T123022Z
UID:10935-1773334800-1773347400@lhsbandofgold.org
SUMMARY:IMAGE Indoor Colorguard Rehearsal
DESCRIPTION:
URL:https://lhsbandofgold.org/event/image-indoor-colorguard-rehearsal-40/
LOCATION:Largo High School\, 410 Missouri Ave N\, Largo\, FL\, 33770\, United States
CATEGORIES:Rehearsal
END:VEVENT
BEGIN:VEVENT
DTSTART;VALUE=DATE:20260314
DTEND;VALUE=DATE:20260315
DTSTAMP:20260425T071541
CREATED:20240116T002235Z
LAST-MODIFIED:20260131T223258Z
UID:14386-1773446400-1773532799@lhsbandofgold.org
SUMMARY:IMAGE Indoor Colorguard Rehearsal Camp
DESCRIPTION:Not confirmed yet; will update once it is.
URL:https://lhsbandofgold.org/event/image-indoor-colorguard-rehearsal-camp/
LOCATION:Largo High School\, 410 Missouri Ave N\, Largo\, FL\, 33770\, United States
CATEGORIES:Rehearsal
END:VEVENT
END:VCALENDAR