BEGIN:VCALENDAR
VERSION:2.0
PRODID:-//Largo High School Instrumental Music - ECPv6.15.15//NONSGML v1.0//EN
CALSCALE:GREGORIAN
METHOD:PUBLISH
X-WR-CALNAME:Largo High School Instrumental Music
X-ORIGINAL-URL:https://lhsbandofgold.org
X-WR-CALDESC:Events for Largo High School Instrumental Music
REFRESH-INTERVAL;VALUE=DURATION:PT1H
X-Robots-Tag:noindex
X-PUBLISHED-TTL:PT1H
BEGIN:VTIMEZONE
TZID:America/New_York
BEGIN:DAYLIGHT
TZOFFSETFROM:-0500
TZOFFSETTO:-0400
TZNAME:EDT
DTSTART:20250309T070000
END:DAYLIGHT
BEGIN:STANDARD
TZOFFSETFROM:-0400
TZOFFSETTO:-0500
TZNAME:EST
DTSTART:20251102T060000
END:STANDARD
BEGIN:DAYLIGHT
TZOFFSETFROM:-0500
TZOFFSETTO:-0400
TZNAME:EDT
DTSTART:20260308T070000
END:DAYLIGHT
BEGIN:STANDARD
TZOFFSETFROM:-0400
TZOFFSETTO:-0500
TZNAME:EST
DTSTART:20261101T060000
END:STANDARD
BEGIN:DAYLIGHT
TZOFFSETFROM:-0500
TZOFFSETTO:-0400
TZNAME:EDT
DTSTART:20270314T070000
END:DAYLIGHT
BEGIN:STANDARD
TZOFFSETFROM:-0400
TZOFFSETTO:-0500
TZNAME:EST
DTSTART:20271107T060000
END:STANDARD
END:VTIMEZONE
BEGIN:VEVENT
DTSTART;VALUE=DATE:20260307
DTEND;VALUE=DATE:20260308
DTSTAMP:20260424T235330
CREATED:20211130T002944Z
LAST-MODIFIED:20260131T225626Z
UID:11028-1772841600-1772927999@lhsbandofgold.org
SUMMARY:IMAGE Indoor Colorguard Contest at Braden River HS
DESCRIPTION:Schedule will be announced in due course!
URL:https://lhsbandofgold.org/event/image-indoor-colorguard-contest/
LOCATION:Braden River High School\, 6545 E State Road 70\, Bradenton\, FL\, 34203
CATEGORIES:Performance
END:VEVENT
BEGIN:VEVENT
DTSTART;VALUE=DATE:20260310
DTEND;VALUE=DATE:20260313
DTSTAMP:20260424T235330
CREATED:20211130T003921Z
LAST-MODIFIED:20260206T122609Z
UID:11040-1773100800-1773359999@lhsbandofgold.org
SUMMARY:Concert Band District MPA
DESCRIPTION:This will be at: \nPinellas Park High on Tuesday \nPalm Harbor University High on Wednesday \nPinellas Park High on Thursday
URL:https://lhsbandofgold.org/event/concert-band-district-mpa/
LOCATION:To be determined\, FL
CATEGORIES:Performance
END:VEVENT
BEGIN:VEVENT
DTSTART;TZID=America/New_York:20260310T150000
DTEND;TZID=America/New_York:20260310T200000
DTSTAMP:20260424T235330
CREATED:20260206T122734Z
LAST-MODIFIED:20260206T122736Z
UID:17028-1773154800-1773172800@lhsbandofgold.org
SUMMARY:Band of Gold MPA Performance
DESCRIPTION:5:00 pm performance time; other details coming soon.
URL:https://lhsbandofgold.org/event/band-of-gold-mpa-performance/
LOCATION:Pinellas Park High School\, 6305 118th Ave N\, Largo\, FL\, 33773\, United States
CATEGORIES:Performance
END:VEVENT
BEGIN:VEVENT
DTSTART;TZID=America/New_York:20260313T170000
DTEND;TZID=America/New_York:20260313T203000
DTSTAMP:20260424T235330
CREATED:20250117T193747Z
LAST-MODIFIED:20260206T123104Z
UID:15467-1773421200-1773433800@lhsbandofgold.org
SUMMARY:Family & Friends Colorguard Event
DESCRIPTION:
URL:https://lhsbandofgold.org/event/family-friends-colorguard-event/
LOCATION:Largo HS Gym
CATEGORIES:Performance
END:VEVENT
BEGIN:VEVENT
DTSTART;VALUE=DATE:20260331
DTEND;VALUE=DATE:20260403
DTSTAMP:20260424T235330
CREATED:20250724T150556Z
LAST-MODIFIED:20250724T150556Z
UID:16147-1774915200-1775174399@lhsbandofgold.org
SUMMARY:Band Concert MPA #2
DESCRIPTION:This is primarily intended for Middle Schools; however\, new this year\, high schools may also attend.  There is a possibility we might take Blue Band to this event; we do not know which day yet.  Detailed info will be posted here and sent out via Band app & CutTime closer to the date.
URL:https://lhsbandofgold.org/event/band-concert-mpa-2/
LOCATION:To be determined\, FL
CATEGORIES:General,Performance
END:VEVENT
END:VCALENDAR