BEGIN:VCALENDAR
VERSION:2.0
PRODID:-//Largo High School Instrumental Music - ECPv6.15.15//NONSGML v1.0//EN
CALSCALE:GREGORIAN
METHOD:PUBLISH
X-WR-CALNAME:Largo High School Instrumental Music
X-ORIGINAL-URL:https://lhsbandofgold.org
X-WR-CALDESC:Events for Largo High School Instrumental Music
REFRESH-INTERVAL;VALUE=DURATION:PT1H
X-Robots-Tag:noindex
X-PUBLISHED-TTL:PT1H
BEGIN:VTIMEZONE
TZID:America/New_York
BEGIN:DAYLIGHT
TZOFFSETFROM:-0500
TZOFFSETTO:-0400
TZNAME:EDT
DTSTART:20250309T070000
END:DAYLIGHT
BEGIN:STANDARD
TZOFFSETFROM:-0400
TZOFFSETTO:-0500
TZNAME:EST
DTSTART:20251102T060000
END:STANDARD
BEGIN:DAYLIGHT
TZOFFSETFROM:-0500
TZOFFSETTO:-0400
TZNAME:EDT
DTSTART:20260308T070000
END:DAYLIGHT
BEGIN:STANDARD
TZOFFSETFROM:-0400
TZOFFSETTO:-0500
TZNAME:EST
DTSTART:20261101T060000
END:STANDARD
BEGIN:DAYLIGHT
TZOFFSETFROM:-0500
TZOFFSETTO:-0400
TZNAME:EDT
DTSTART:20270314T070000
END:DAYLIGHT
BEGIN:STANDARD
TZOFFSETFROM:-0400
TZOFFSETTO:-0500
TZNAME:EST
DTSTART:20271107T060000
END:STANDARD
END:VTIMEZONE
BEGIN:VEVENT
DTSTART;TZID=America/New_York:20260424T150000
DTEND;TZID=America/New_York:20260425T180000
DTSTAMP:20260423T090427
CREATED:20250324T195857Z
LAST-MODIFIED:20250724T152455Z
UID:15670-1777042800-1777140000@lhsbandofgold.org
SUMMARY:FBA & FOA Solo & Ensemble MPA #2
DESCRIPTION:We MIGHT be HOSTING this event again; nothing has been confirmed. \nORCHESTRA & AUXILIARY events will only occur on Saturday \nWIND & PERCUSSION events will be on both Friday and Saturday \n 
URL:https://lhsbandofgold.org/event/fba-foa-solo-ensemble-mpa/
LOCATION:To be determined\, FL
CATEGORIES:General
END:VEVENT
BEGIN:VEVENT
DTSTART;TZID=America/New_York:20260427T080000
DTEND;TZID=America/New_York:20260427T170000
DTSTAMP:20260423T090427
CREATED:20250724T150945Z
LAST-MODIFIED:20250724T151342Z
UID:16152-1777276800-1777309200@lhsbandofgold.org
SUMMARY:Teacher Work Day - no classes
DESCRIPTION:
URL:https://lhsbandofgold.org/event/teacher-work-day-no-classes-3/
LOCATION:FL
END:VEVENT
BEGIN:VEVENT
DTSTART;TZID=America/New_York:20260428T190000
DTEND;TZID=America/New_York:20260428T203000
DTSTAMP:20260423T090427
CREATED:20211130T180226Z
LAST-MODIFIED:20250725T183027Z
UID:11066-1777402800-1777408200@lhsbandofgold.org
SUMMARY:Senior Salute Concert I
DESCRIPTION:This is the first of two concerts. \nDetails closer to the event. \n 
URL:https://lhsbandofgold.org/event/senior-salute-concert-i-2/
LOCATION:Auditorium
CATEGORIES:Performance
END:VEVENT
BEGIN:VEVENT
DTSTART;TZID=America/New_York:20260429T190000
DTEND;TZID=America/New_York:20260429T203000
DTSTAMP:20260423T090427
CREATED:20211130T180318Z
LAST-MODIFIED:20250725T183112Z
UID:11068-1777489200-1777494600@lhsbandofgold.org
SUMMARY:Senior Salute Concert II
DESCRIPTION:This is the second of two concerts \nDetails closer to the event.
URL:https://lhsbandofgold.org/event/senior-salute-concert-ii-2/
LOCATION:Auditorium
CATEGORIES:Performance
END:VEVENT
END:VCALENDAR