BEGIN:VCALENDAR
VERSION:2.0
PRODID:-//Largo High School Instrumental Music - ECPv6.15.15//NONSGML v1.0//EN
CALSCALE:GREGORIAN
METHOD:PUBLISH
X-ORIGINAL-URL:https://lhsbandofgold.org
X-WR-CALDESC:Events for Largo High School Instrumental Music
REFRESH-INTERVAL;VALUE=DURATION:PT1H
X-Robots-Tag:noindex
X-PUBLISHED-TTL:PT1H
BEGIN:VTIMEZONE
TZID:America/New_York
BEGIN:DAYLIGHT
TZOFFSETFROM:-0500
TZOFFSETTO:-0400
TZNAME:EDT
DTSTART:20250309T070000
END:DAYLIGHT
BEGIN:STANDARD
TZOFFSETFROM:-0400
TZOFFSETTO:-0500
TZNAME:EST
DTSTART:20251102T060000
END:STANDARD
BEGIN:DAYLIGHT
TZOFFSETFROM:-0500
TZOFFSETTO:-0400
TZNAME:EDT
DTSTART:20260308T070000
END:DAYLIGHT
BEGIN:STANDARD
TZOFFSETFROM:-0400
TZOFFSETTO:-0500
TZNAME:EST
DTSTART:20261101T060000
END:STANDARD
BEGIN:DAYLIGHT
TZOFFSETFROM:-0500
TZOFFSETTO:-0400
TZNAME:EDT
DTSTART:20270314T070000
END:DAYLIGHT
BEGIN:STANDARD
TZOFFSETFROM:-0400
TZOFFSETTO:-0500
TZNAME:EST
DTSTART:20271107T060000
END:STANDARD
END:VTIMEZONE
BEGIN:VEVENT
DTSTART;VALUE=DATE:20260220
DTEND;VALUE=DATE:20260222
DTSTAMP:20260424T193709
CREATED:20211130T220139Z
LAST-MODIFIED:20250724T152600Z
UID:11094-1771545600-1771718399@lhsbandofgold.org
SUMMARY:FBA & FOA Solo & Ensemble MPA #1
DESCRIPTION:Wind and Percussion events may be on either Friday OR Saturday.  String events are ONLY on Saturday. \nThis is ONLY for strings\, winds and percussion; colorguard events will be at the 2nd Solo & Ensemble MPA in April. \nAll GOLD BAND & GOLDEN STRINGS members are expected to participate in this\, although some individuals may do the April event instead.  All BLUE BAND & SILVER STRINGS members are encouraged to participate as well in either this event or the one in April. \nAny member wishing to qualify for STATE solo & ensemble must perform at this event; the 2nd one is too late.
URL:https://lhsbandofgold.org/event/band-guard-solo-ensemble-mpa/
LOCATION:Gibbs High School\, 850 34th St S\, St Petersburg\, FL\, 33711\, United States
CATEGORIES:Performance
END:VEVENT
BEGIN:VEVENT
DTSTART;TZID=America/New_York:20260220T141500
DTEND;TZID=America/New_York:20260220T153000
DTSTAMP:20260424T193709
CREATED:20260131T214729Z
LAST-MODIFIED:20260131T214729Z
UID:16990-1771596900-1771601400@lhsbandofgold.org
SUMMARY:Golden Strings MPA Rehearsal
DESCRIPTION:3rd and final of 3.  The time may have to be adjusted depending on the schedule for Solo & Ensemble.
URL:https://lhsbandofgold.org/event/golden-strings-mpa-rehearsal-4/
LOCATION:FL
END:VEVENT
END:VCALENDAR